BEGIN:VCALENDAR
VERSION:2.0
PRODID:EVENTFROG//EVENT//ICAL
BEGIN:VEVENT
UID:20260426T021138Z-7453379774628545581@eventfrog.de
DTSTAMP:20260426T021138Z
DTSTART:20260430T160000Z
DTEND:20260501T000000Z
SUMMARY:Maibaumstellen und Tanz in den Mai
DESCRIPTION:18Uhr Maibaumstellen auf dem Mutzschener Markt mit Spielmannszug\n19Uhr Tanz in den Mai in der Großküche\n\nhttps://eventfrog.de/de/p/partys/sonstige-partys/maibaumstellen-und-tanz-in-den-mai-7453379774628545581.html
LOCATION:Ob. Hauptstraße 33
GEO:51.261449;12.893618
URL:https://eventfrog.de/de/p/partys/sonstige-partys/maibaumstellen-und-tanz-in-den-mai-7453379774628545581.html
END:VEVENT
END:VCALENDAR