BEGIN:VCALENDAR
VERSION:2.0
PRODID:EVENTFROG//EVENT//ICAL
BEGIN:VEVENT
UID:20260424T214233Z-7453381490618966407@eventfrog.de
DTSTAMP:20260424T214233Z
DTSTART:20260828T080000Z
DTEND:20260828T150000Z
SUMMARY:Urs Frei. A-Z
DESCRIPTION:Das Kunstmuseum St.Gallen präsentiert die erste umfassende Retrospektive des Schweizer Künstlers Urs Frei mit Werken aus vier Jahrzehnten.\n\nhttps://eventfrog.de/de/p/kunst-ausstellungen/ausstellung/urs-frei-a-z-7453381490618966407.html
LOCATION:Kunstmuseum St. Gallen
GEO:47.427814;9.381619
URL:https://eventfrog.de/de/p/kunst-ausstellungen/ausstellung/urs-frei-a-z-7453381490618966407.html
END:VEVENT
END:VCALENDAR