BEGIN:VCALENDAR
VERSION:2.0
PRODID:EVENTFROG//EVENT//ICAL
BEGIN:VEVENT
UID:20260424T232632Z-7453384022879689026@eventfrog.de
DTSTAMP:20260424T232632Z
DTSTART:20260602T163000Z
DTEND:20260602T190000Z
SUMMARY:Beyond the Prompt.
DESCRIPTION:Interactive Zurich Social Hub event explores creativity, critical thinking and ethics in AI-assisted world.\n\nhttps://eventfrog.de/en/p/courses-seminars/business/beyond-the-prompt-7453384022879689026.html
LOCATION:Headquarters, The Artistic
GEO:47.366910;8.534875
URL:https://eventfrog.de/en/p/courses-seminars/business/beyond-the-prompt-7453384022879689026.html
END:VEVENT
END:VCALENDAR