BEGIN:VCALENDAR
VERSION:2.0
PRODID:EVENTFROG//EVENT//ICAL
BEGIN:VEVENT
UID:20260426T043157Z-7453389556009669362@eventfrog.de
DTSTAMP:20260426T043157Z
DTSTART:20260720T100000Z
DTEND:20260720T113000Z
SUMMARY:VFU Business-Lunch in Chur, 20.07.2026
DESCRIPTION:Der BusinessLunch im Restaurant «Marsöl» in Chur bietet Unternehmerinnen am 20. Juli Netzwerk, Austausch und Genuss.\n\nhttps://eventfrog.de/de/p/fuehrungen-vortraege/business-treff/vfu-business-lunch-in-chur-20-07-2026-7453389556009669362.html
LOCATION:Marsoel die Bar
GEO:46.848289;9.533923
URL:https://eventfrog.de/de/p/fuehrungen-vortraege/business-treff/vfu-business-lunch-in-chur-20-07-2026-7453389556009669362.html
END:VEVENT
END:VCALENDAR