BEGIN:VCALENDAR
VERSION:2.0
PRODID:EVENTFROG//EVENT//ICAL
BEGIN:VEVENT
UID:20260425T101943Z-7453390605755894843@eventfrog.de
DTSTAMP:20260425T101943Z
DTSTART:20260516T160000Z
DTEND:20260516T173000Z
SUMMARY:"The Armed Man: A Mass for Peace" von Karl Jenkins
DESCRIPTION:Oratorienchor St. Gallen, UniChor St. Gallen und Stadtorchester Friedrichshafen führen Karl Jenkins' Friedensmesse "The Armed Man: A Mass for Peace" auf.\n\nhttps://eventfrog.de/de/p/konzerte/kirchenmusik/the-armed-man-a-mass-for-peace-von-karl-jenkins-7453390605755894843.html
LOCATION:Kirche St.Maria Neudorf
GEO:47.438297;9.406467
URL:https://eventfrog.de/de/p/konzerte/kirchenmusik/the-armed-man-a-mass-for-peace-von-karl-jenkins-7453390605755894843.html
END:VEVENT
END:VCALENDAR