BEGIN:VCALENDAR
VERSION:2.0
PRODID:EVENTFROG//EVENT//ICAL
BEGIN:VEVENT
UID:20260424T223659Z-7453402124686205235@eventfrog.de
DTSTAMP:20260424T223659Z
DTSTART:20260606T120000Z
DTEND:20260606T160000Z
SUMMARY:Come from away
DESCRIPTION:Ein Musical über Menschlichkeit im Ausnahmezustand und die wahren Begegnungen, die daraus entstanden. Einakter ohne Pause, mit Liveband.\n\nhttps://eventfrog.de/de/p/musicals-shows/musical/come-from-away-7453402124686205235.html
LOCATION:Centre Francais de Berlin
GEO:52.558430;13.339050
URL:https://eventfrog.de/de/p/musicals-shows/musical/come-from-away-7453402124686205235.html
END:VEVENT
END:VCALENDAR