BEGIN:VCALENDAR
VERSION:2.0
PRODID:EVENTFROG//EVENT//ICAL
BEGIN:VEVENT
UID:20260424T192453Z-7453411232759978782@eventfrog.de
DTSTAMP:20260424T192453Z
DTSTART:20260605T210000Z
DTEND:20260606T030000Z
SUMMARY:Bang! K-Pop @ Vior Club
DESCRIPTION:Am 24.4.2026 bringt DJane Josie aus Taiwan mit DJ Jeremy im VIOR Club moderne K-Pop auf die Bühne.\n\nhttps://eventfrog.de/de/p/partys/sonstige-partys/bang-k-pop-vior-club-7453411232759978782.html
LOCATION:VIOR
GEO:47.373004;8.534968
URL:https://eventfrog.de/de/p/partys/sonstige-partys/bang-k-pop-vior-club-7453411232759978782.html
END:VEVENT
END:VCALENDAR