BEGIN:VCALENDAR
VERSION:2.0
PRODID:EVENTFROG//EVENT//ICAL
BEGIN:VEVENT
UID:20260425T142553Z-7453418550763499016@eventfrog.de
DTSTAMP:20260425T142553Z
DTSTART:20260522T180000Z
SUMMARY:SafiLab “Ancient Sound” präsentiert: Japal
DESCRIPTION:Das Trio Japal kombiniert arabische, japanische und weitere Klänge zu einer einzigartigen World-Music-Performance bei Ancient Sound.\n\nhttps://eventfrog.de/de/p/konzerte/jazz-blues/safilab-ancient-sound-praesentiert-japal-7453418550763499016.html
LOCATION:Theater Expedition Metropolis
GEO:52.494325;13.429326
URL:https://eventfrog.de/de/p/konzerte/jazz-blues/safilab-ancient-sound-praesentiert-japal-7453418550763499016.html
END:VEVENT
END:VCALENDAR