BEGIN:VCALENDAR
VERSION:2.0
PRODID:EVENTFROG//EVENT//ICAL
BEGIN:VEVENT
UID:20260424T190422Z-7453419624618575942@eventfrog.de
DTSTAMP:20260424T190422Z
DTSTART:20260505T160000Z
SUMMARY:Regardez! Art, gourmandises et échange
DESCRIPTION:Regardez! Art, gourmandises et échange – Geselliger Kunstgenuss mit Apéro für Liebhaber:innen der franzöischen Sprache und Gastronomie, ein neue Kooperation mit der Oltner Weinbar "Für Margrit"\n\nhttps://eventfrog.de/de/p/kunst-ausstellungen/weitere-kunstveranstaltungen/regardez-art-gourmandises-et-echange-7453419624618575942.html
LOCATION:Kunstmuseum Olten
GEO:47.349985;7.901622
URL:https://eventfrog.de/de/p/kunst-ausstellungen/weitere-kunstveranstaltungen/regardez-art-gourmandises-et-echange-7453419624618575942.html
END:VEVENT
END:VCALENDAR