BEGIN:VCALENDAR
VERSION:2.0
PRODID:EVENTFROG//EVENT//ICAL
BEGIN:VEVENT
UID:20260424T231239Z-7453438805107822962@eventfrog.de
DTSTAMP:20260424T231239Z
DTSTART:20260515T090000Z
DTEND:20260515T160000Z
SUMMARY:Sammlung Martin und Veronika Burckhardt
DESCRIPTION:Sammlung Martin und Veronika Burckhardt - Von privaten Schätzen und öffentlichem Engagement\nMit Werken der Erbengemeinschaft sowie aus dem Karl August Burckhardt-Koechlin-Fonds im Kupferstichkabinett\n\nhttps://eventfrog.de/de/p/kunst-ausstellungen/ausstellung/sammlung-martin-und-veronika-burckhardt-7453438805107822962.html
LOCATION:FOR ART - eine temporäre Kunstintervention von Littmann Kulturprojekte
GEO:47.555291;7.593660
URL:https://eventfrog.de/de/p/kunst-ausstellungen/ausstellung/sammlung-martin-und-veronika-burckhardt-7453438805107822962.html
END:VEVENT
END:VCALENDAR