BEGIN:VCALENDAR
VERSION:2.0
PRODID:EVENTFROG//EVENT//ICAL
BEGIN:VEVENT
UID:20260425T104918Z-7453443169922842938@eventfrog.de
DTSTAMP:20260425T104918Z
DTSTART:20260429T070000Z
DTEND:20260429T083000Z
SUMMARY:PEKiP (Juli / Aug / Sep / Okt 2025) VA33
DESCRIPTION:Kuschelige Wärme im Babyraum in Maria Enzersdorf; Bewegung und Entwicklungsförderung für Babys; Austausch für Eltern; Babys erleben soziale Kontakte und regen sich gegenseitig an.\n\nhttps://eventfrog.de/de/p/kurse-seminare/familienweiterbildung/pekip-juli-aug-sep-okt-2025-va33-7453443169922842938.html
LOCATION:Kids&co Familienzentrum Maria Enzersdorf
GEO:48.100805;16.280810
URL:https://eventfrog.de/de/p/kurse-seminare/familienweiterbildung/pekip-juli-aug-sep-okt-2025-va33-7453443169922842938.html
END:VEVENT
END:VCALENDAR