BEGIN:VCALENDAR
VERSION:2.0
PRODID:EVENTFROG//EVENT//ICAL
BEGIN:VEVENT
UID:20260424T214149Z-7453443763614029741@eventfrog.de
DTSTAMP:20260424T214149Z
DTSTART:20260616T100000Z
DTEND:20260616T150000Z
SUMMARY:Hinterm Horizont geht's weiter!
DESCRIPTION:In der Gruppenausstellung "Hinterm Horizont geht's weiter!", die einen Song-Titel von Udo Lindenberg aufgreift, beschäftigen sich 55 zeitgenössische Kunstschaffende mit dem Zustand der Welt.\n\nhttps://eventfrog.de/de/p/kunst-ausstellungen/ausstellung/hinterm-horizont-geht-s-weiter-7453443763614029741.html
LOCATION:Kunstmuseum Olten
GEO:47.349985;7.901622
URL:https://eventfrog.de/de/p/kunst-ausstellungen/ausstellung/hinterm-horizont-geht-s-weiter-7453443763614029741.html
END:VEVENT
END:VCALENDAR