BEGIN:VCALENDAR
VERSION:2.0
PRODID:EVENTFROG//EVENT//ICAL
BEGIN:VEVENT
UID:20260426T012648Z-7453488050280134494@eventfrog.de
DTSTAMP:20260426T012648Z
DTSTART:20260606T090000Z
DTEND:20260606T100000Z
SUMMARY:Ineichens Barockgarage - Traversflöte und Cembalo
DESCRIPTION:Aldo Christen und Rebecca Ineichen spielen europäische Barockmusik auf Traversflöte und Cembalo in einer musikalischen Entdeckungsreise.\n\nhttps://eventfrog.de/de/p/klassik-opern/klassik/ineichens-barockgarage-traversfloete-und-cembalo-7453488050280134494.html
LOCATION:Garage Wetzikon
GEO:47.320097;8.793998
URL:https://eventfrog.de/de/p/klassik-opern/klassik/ineichens-barockgarage-traversfloete-und-cembalo-7453488050280134494.html
END:VEVENT
END:VCALENDAR