BEGIN:VCALENDAR
VERSION:2.0
PRODID:EVENTFROG//EVENT//ICAL
BEGIN:VEVENT
UID:20260425T160001Z-7453558564344361139@eventfrog.de
DTSTAMP:20260425T160001Z
DTSTART:20260527T080000Z
DTEND:20260527T170000Z
SUMMARY:Access Bars Therapy – Deep Mental Reset (Zurich)
DESCRIPTION: Access Bars® sessions in Zurich for deep mental reset, stress relief and better sleep.\n\nhttps://eventfrog.de/en/p/health-spirituality/health-wellbeing/access-bars-therapy-deep-mental-reset-zurich-7453558564344361139.html
LOCATION:To be announced
URL:https://eventfrog.de/en/p/health-spirituality/health-wellbeing/access-bars-therapy-deep-mental-reset-zurich-7453558564344361139.html
END:VEVENT
END:VCALENDAR