BEGIN:VCALENDAR
VERSION:2.0
PRODID:EVENTFROG//EVENT//ICAL
BEGIN:VEVENT
UID:20260425T155844Z-7453558564549882041@eventfrog.de
DTSTAMP:20260425T155844Z
DTSTART:20260601T080000Z
DTEND:20260601T170000Z
SUMMARY:Access Bars Therapy – Deep Mental Reset (Zurich)
DESCRIPTION: Access Bars® sessions in Zurich for deep mental reset, stress relief and better sleep.\n\nhttps://eventfrog.de/en/p/health-spirituality/health-wellbeing/access-bars-therapy-deep-mental-reset-zurich-7453558564549882041.html
LOCATION:To be announced
URL:https://eventfrog.de/en/p/health-spirituality/health-wellbeing/access-bars-therapy-deep-mental-reset-zurich-7453558564549882041.html
END:VEVENT
END:VCALENDAR