BEGIN:VCALENDAR
VERSION:2.0
PRODID:EVENTFROG//EVENT//ICAL
BEGIN:VEVENT
UID:20260426T023926Z-7453684474229878151@eventfrog.de
DTSTAMP:20260426T023926Z
DTSTART:20260426T080000Z
DTEND:20260426T150000Z
SUMMARY:Bunte Meile "Rund um die Emsbürener Straße"
DESCRIPTION:Am 26.04. bietet Schüttorf ein Stadtfest mit Flohmarkt, Motorradfahrten, Kung-Fu-Shows und Spielangeboten für die ganze Familie.\n\nhttps://eventfrog.de/de/p/volksfeste/stadtfest/bunte-meile-rund-um-die-emsbuerener-strasse-7453684474229878151.html
LOCATION:Bunte Meile "Rund um die Emsbürener Straße" Schüttorf
GEO:52.326743;7.242998
URL:https://eventfrog.de/de/p/volksfeste/stadtfest/bunte-meile-rund-um-die-emsbuerener-strasse-7453684474229878151.html
END:VEVENT
END:VCALENDAR