BEGIN:VCALENDAR
VERSION:2.0
PRODID:EVENTFROG//EVENT//ICAL
BEGIN:VEVENT
UID:20260425T230503Z-7453685089517460532@eventfrog.de
DTSTAMP:20260425T230503Z
DTSTART:20260508T143000Z
DTEND:20260710T153000Z
SUMMARY:Stress & Spannungen lösen: TRE®-Kurs
DESCRIPTION:Aktiviere mit TRE® einen natürlichen Mechanismus zur Regulation des Nervensystems: Im Kurs (5x1h) lernst du, einen Zittermechanismus des Körpers gezielt für deine Gesundheit zu nutzen.\n\nhttps://eventfrog.de/de/p/kurse-seminare/sonstige-kurse-seminare/stress-spannungen-loesen-tre-kurs-7453685089517460532.html
LOCATION:GZ Bachwiesen
GEO:47.380000;8.486120
URL:https://eventfrog.de/de/p/kurse-seminare/sonstige-kurse-seminare/stress-spannungen-loesen-tre-kurs-7453685089517460532.html
END:VEVENT
END:VCALENDAR