BEGIN:VCALENDAR
VERSION:2.0
PRODID:EVENTFROG//EVENT//ICAL
BEGIN:VEVENT
UID:20260425T222821Z-7453771007888774435@eventfrog.de
DTSTAMP:20260425T222821Z
DTSTART:20260523T070000Z
DTEND:20260523T140000Z
SUMMARY:Standaktion HEV Birmensdorf-Uitikon-Aesch
DESCRIPTION:Stand zu HEV-Wohneigentums-Initiative mit Präsident Diego Bonato\n\nhttps://eventfrog.de/de/p/politik-gemeinde/politik/standaktion-hev-birmensdorf-uitikon-aesch-7453771007888774435.html
LOCATION:Wüeriplatz
GEO:47.353919;8.436972
URL:https://eventfrog.de/de/p/politik-gemeinde/politik/standaktion-hev-birmensdorf-uitikon-aesch-7453771007888774435.html
END:VEVENT
END:VCALENDAR