BEGIN:VCALENDAR
VERSION:2.0
PRODID:EVENTFROG//EVENT//ICAL
BEGIN:VEVENT
UID:20260425T200239Z-7453783156497366464@eventfrog.de
DTSTAMP:20260425T200239Z
DTSTART:20260521T160000Z
DTEND:20260521T190000Z
SUMMARY:EcstaticCacaoDance  AQUARIO & ROSY KANTU
DESCRIPTION:Am 21. Mai lädt EcstaticDance Leipzig zum CacaoDance mit ROSY KANTU, AQUARIO und Soundhealing in der KulTurnhalle ein.\n\nhttps://eventfrog.de/de/p/kurse-seminare/musik-tanz/ecstaticcacaodance-aquario-rosy-kantu-7453783156497366464.html
LOCATION:KulTurnhalle Leipzig
GEO:51.304973;12.422841
URL:https://eventfrog.de/de/p/kurse-seminare/musik-tanz/ecstaticcacaodance-aquario-rosy-kantu-7453783156497366464.html
END:VEVENT
END:VCALENDAR