BEGIN:VCALENDAR
VERSION:2.0
PRODID:EVENTFROG//EVENT//ICAL
BEGIN:VEVENT
UID:20260426T042923Z-7453952167843487933@eventfrog.de
DTSTAMP:20260426T042923Z
DTSTART:20260528T173000Z
DTEND:20260529T000000Z
SUMMARY:PROMO BR FUNK WORKSHOP WITH ALLINE AZEV by BUBBLEPOP! BRAZIL
DESCRIPTION:Alline Azev gibt am 28. Mai in JO&JOE Vienna einen exklusiven Brazilian Funk Dance Workshop mit anschliessender Party.\n\nhttps://eventfrog.de/en/p/parties/latin-brasil/promo-br-funk-workshop-with-alline-azev-by-bubblepop-brazil-7453952167843487933.html
LOCATION:JO&JOE VIENNA
GEO:48.196326;16.338812
URL:https://eventfrog.de/en/p/parties/latin-brasil/promo-br-funk-workshop-with-alline-azev-by-bubblepop-brazil-7453952167843487933.html
END:VEVENT
END:VCALENDAR