BEGIN:VCALENDAR
VERSION:2.0
PRODID:EVENTFROG//EVENTGROUP//ICAL
BEGIN:VEVENT
UID:20260425T002638Z-7406982136413088260@eventfrog.de
DTSTAMP:20260425T002638Z
DTSTART:20260424T180000Z
SUMMARY:Mord ist Chefsache
DESCRIPTION:Das Schauspielensemble Iserlohn zeigt eine Kriminalkomödie mit einem Beerdigungsinstitut in einer tiefen Kriese\n\nhttps://eventfrog.de/de/p/theater-buehne/theater/mord-ist-chefsache-7406982136413088260.html
LOCATION:Studio des Parktheaters Iserlohn
GEO:51.370883;7.690346
URL:https://eventfrog.de/de/p/theater-buehne/theater/mord-ist-chefsache-7406982136413088260.html
END:VEVENT
BEGIN:VEVENT
UID:20260425T002638Z-7406982377887498427@eventfrog.de
DTSTAMP:20260425T002638Z
DTSTART:20260425T180000Z
SUMMARY:Mord ist Chefsache
DESCRIPTION:Das Schauspielensemble Iserlohn zeigt eine Kriminalkomödie mit einem Beerdigungsinstitut in einer tiefen Kriese\n\nhttps://eventfrog.de/de/p/theater-buehne/theater/mord-ist-chefsache-7406982377887498427.html
LOCATION:Studio des Parktheaters Iserlohn
GEO:51.370883;7.690346
URL:https://eventfrog.de/de/p/theater-buehne/theater/mord-ist-chefsache-7406982377887498427.html
END:VEVENT
BEGIN:VEVENT
UID:20260425T002638Z-7406982378030105373@eventfrog.de
DTSTAMP:20260425T002638Z
DTSTART:20260426T170000Z
SUMMARY:Mord ist Chefsache
DESCRIPTION:Das Schauspielensemble Iserlohn zeigt eine Kriminalkomödie mit einem Beerdigungsinstitut in einer tiefen Kriese\n\nhttps://eventfrog.de/de/p/theater-buehne/theater/mord-ist-chefsache-7406982378030105373.html
LOCATION:Studio des Parktheaters Iserlohn
GEO:51.370883;7.690346
URL:https://eventfrog.de/de/p/theater-buehne/theater/mord-ist-chefsache-7406982378030105373.html
END:VEVENT
BEGIN:VEVENT
UID:20260425T002638Z-7406982378172711723@eventfrog.de
DTSTAMP:20260425T002638Z
DTSTART:20260501T180000Z
SUMMARY:Mord ist Chefsache
DESCRIPTION:Das Schauspielensemble Iserlohn zeigt eine Kriminalkomödie mit einem Beerdigungsinstitut in einer tiefen Kriese\n\nhttps://eventfrog.de/de/p/theater-buehne/theater/mord-ist-chefsache-7406982378172711723.html
LOCATION:Studio des Parktheaters Iserlohn
GEO:51.370883;7.690346
URL:https://eventfrog.de/de/p/theater-buehne/theater/mord-ist-chefsache-7406982378172711723.html
END:VEVENT
BEGIN:VEVENT
UID:20260425T002638Z-7406982378302735204@eventfrog.de
DTSTAMP:20260425T002638Z
DTSTART:20260502T180000Z
SUMMARY:Mord ist Chefsache
DESCRIPTION:Das Schauspielensemble Iserlohn zeigt eine Kriminalkomödie mit einem Beerdigungsinstitut in einer tiefen Kriese\n\nhttps://eventfrog.de/de/p/theater-buehne/theater/mord-ist-chefsache-7406982378302735204.html
LOCATION:Studio des Parktheaters Iserlohn
GEO:51.370883;7.690346
URL:https://eventfrog.de/de/p/theater-buehne/theater/mord-ist-chefsache-7406982378302735204.html
END:VEVENT
BEGIN:VEVENT
UID:20260425T002638Z-7406982378432758653@eventfrog.de
DTSTAMP:20260425T002638Z
DTSTART:20260503T170000Z
SUMMARY:Mord ist Chefsache
DESCRIPTION:Das Schauspielensemble Iserlohn zeigt eine Kriminalkomödie mit einem Beerdigungsinstitut in einer tiefen Kriese\n\nhttps://eventfrog.de/de/p/theater-buehne/theater/mord-ist-chefsache-7406982378432758653.html
LOCATION:Studio des Parktheaters Iserlohn
GEO:51.370883;7.690346
URL:https://eventfrog.de/de/p/theater-buehne/theater/mord-ist-chefsache-7406982378432758653.html
END:VEVENT
END:VCALENDAR