BEGIN:VCALENDAR
VERSION:2.0
PRODID:EVENTFROG//EVENTGROUP//ICAL
BEGIN:VEVENT
UID:20260425T125200Z-7422601738308329029@eventfrog.de
DTSTAMP:20260425T125200Z
DTSTART:20260426T123000Z
SUMMARY:Spaziergang als Zeitreise im Schlosspark Favorite
DESCRIPTION:Eine Anmeldung ist empfehlenswert: Schlosskasse Telefon 07222 41207 (s. Öffnungszeiten unter www.schloss-favorite-rastatt.de)\n\ninfo@schloss-favorite-rastatt.de (Mo.-Fr. erreichbar)\n\nhttps://eventfrog.de/de/p/fuehrungen-vortraege/fuehrung/spaziergang-als-zeitreise-im-schlosspark-favorite-7422601738308329029.html
LOCATION:Schloss Favorite
GEO:48.823094;8.235630
URL:https://eventfrog.de/de/p/fuehrungen-vortraege/fuehrung/spaziergang-als-zeitreise-im-schlosspark-favorite-7422601738308329029.html
END:VEVENT
BEGIN:VEVENT
UID:20260425T125200Z-7422601800618914214@eventfrog.de
DTSTAMP:20260425T125200Z
DTSTART:20260705T123000Z
SUMMARY:Spaziergang als Zeitreise im Schlosspark Favorite
DESCRIPTION:Eine Anmeldung ist empfehlenswert: Schlosskasse Telefon 07222 41207 (s. Öffnungszeiten unter www.schloss-favorite-rastatt.de)\n\ninfo@schloss-favorite-rastatt.de (Mo.-Fr. erreichbar)\n\nhttps://eventfrog.de/de/p/fuehrungen-vortraege/fuehrung/spaziergang-als-zeitreise-im-schlosspark-favorite-7422601800618914214.html
LOCATION:Schloss Favorite
GEO:48.823094;8.235630
URL:https://eventfrog.de/de/p/fuehrungen-vortraege/fuehrung/spaziergang-als-zeitreise-im-schlosspark-favorite-7422601800618914214.html
END:VEVENT
END:VCALENDAR