BEGIN:VCALENDAR
VERSION:2.0
PRODID:EVENTFROG//EVENTGROUP//ICAL
BEGIN:VEVENT
UID:20260425T153530Z-7430324919567703132@eventfrog.de
DTSTAMP:20260425T153530Z
DTSTART:20260426T083000Z
DTEND:20260426T153000Z
SUMMARY:offenes Waldhaus
DESCRIPTION:Die Wirtschaft zum "offenen Waldhaus " lädt Personen von nah und fern zum geselligen Zusammensein ein. Der Anlass findet bei jeder Witterung statt.\n\nhttps://eventfrog.de/de/p/essen-trinken/offenes-waldhaus-7430324919567703132.html
LOCATION:Waldhaus Riniken
GEO:47.494557;8.173634
URL:https://eventfrog.de/de/p/essen-trinken/offenes-waldhaus-7430324919567703132.html
END:VEVENT
BEGIN:VEVENT
UID:20260425T153530Z-7430325029726847945@eventfrog.de
DTSTAMP:20260425T153530Z
DTSTART:20260531T083000Z
DTEND:20260531T153000Z
SUMMARY:offenes Waldhaus
DESCRIPTION:Die Wirtschaft zum "offenen Waldhaus " lädt Personen von nah und fern zum geselligen Zusammensein ein. Der Anlass findet bei jeder Witterung statt.\n\nhttps://eventfrog.de/de/p/essen-trinken/offenes-waldhaus-7430325029726847945.html
LOCATION:Waldhaus Riniken
GEO:47.494557;8.173634
URL:https://eventfrog.de/de/p/essen-trinken/offenes-waldhaus-7430325029726847945.html
END:VEVENT
BEGIN:VEVENT
UID:20260425T153530Z-7430325029848482763@eventfrog.de
DTSTAMP:20260425T153530Z
DTSTART:20260628T083000Z
DTEND:20260628T153000Z
SUMMARY:offenes Waldhaus
DESCRIPTION:Die Wirtschaft zum "offenen Waldhaus " lädt Personen von nah und fern zum geselligen Zusammensein ein. Der Anlass findet bei jeder Witterung statt.\n\nhttps://eventfrog.de/de/p/essen-trinken/offenes-waldhaus-7430325029848482763.html
LOCATION:Waldhaus Riniken
GEO:47.494557;8.173634
URL:https://eventfrog.de/de/p/essen-trinken/offenes-waldhaus-7430325029848482763.html
END:VEVENT
BEGIN:VEVENT
UID:20260425T153530Z-7430325029957534670@eventfrog.de
DTSTAMP:20260425T153530Z
DTSTART:20260726T083000Z
DTEND:20260726T153000Z
SUMMARY:offenes Waldhaus
DESCRIPTION:Die Wirtschaft zum "offenen Waldhaus " lädt Personen von nah und fern zum geselligen Zusammensein ein. Der Anlass findet bei jeder Witterung statt.\n\nhttps://eventfrog.de/de/p/essen-trinken/offenes-waldhaus-7430325029957534670.html
LOCATION:Waldhaus Riniken
GEO:47.494557;8.173634
URL:https://eventfrog.de/de/p/essen-trinken/offenes-waldhaus-7430325029957534670.html
END:VEVENT
BEGIN:VEVENT
UID:20260425T153530Z-7430325030079170018@eventfrog.de
DTSTAMP:20260425T153530Z
DTSTART:20260830T083000Z
DTEND:20260830T153000Z
SUMMARY:offenes Waldhaus
DESCRIPTION:Die Wirtschaft zum "offenen Waldhaus " lädt Personen von nah und fern zum geselligen Zusammensein ein. Der Anlass findet bei jeder Witterung statt.\n\nhttps://eventfrog.de/de/p/essen-trinken/offenes-waldhaus-7430325030079170018.html
LOCATION:Waldhaus Riniken
GEO:47.494557;8.173634
URL:https://eventfrog.de/de/p/essen-trinken/offenes-waldhaus-7430325030079170018.html
END:VEVENT
BEGIN:VEVENT
UID:20260425T153530Z-7430325030200804936@eventfrog.de
DTSTAMP:20260425T153530Z
DTSTART:20260920T083000Z
DTEND:20260920T153000Z
SUMMARY:offenes Waldhaus
DESCRIPTION:Die Wirtschaft zum "offenen Waldhaus " lädt Personen von nah und fern zum geselligen Zusammensein ein. Der Anlass findet bei jeder Witterung statt.\n\nhttps://eventfrog.de/de/p/essen-trinken/offenes-waldhaus-7430325030200804936.html
LOCATION:Waldhaus Riniken
GEO:47.494557;8.173634
URL:https://eventfrog.de/de/p/essen-trinken/offenes-waldhaus-7430325030200804936.html
END:VEVENT
BEGIN:VEVENT
UID:20260425T153530Z-7430325030343411302@eventfrog.de
DTSTAMP:20260425T153530Z
DTSTART:20261025T093000Z
DTEND:20261025T163000Z
SUMMARY:offenes Waldhaus
DESCRIPTION:Die Wirtschaft zum "offenen Waldhaus " lädt Personen von nah und fern zum geselligen Zusammensein ein. Der Anlass findet bei jeder Witterung statt.\n\nhttps://eventfrog.de/de/p/essen-trinken/offenes-waldhaus-7430325030343411302.html
LOCATION:Waldhaus Riniken
GEO:47.494557;8.173634
URL:https://eventfrog.de/de/p/essen-trinken/offenes-waldhaus-7430325030343411302.html
END:VEVENT
END:VCALENDAR