BEGIN:VCALENDAR
VERSION:2.0
PRODID:EVENTFROG//EVENTGROUP//ICAL
BEGIN:VEVENT
UID:20260419T160156Z-7435634967101603570@eventfrog.de
DTSTAMP:20260419T160156Z
DTSTART:20260616T083000Z
DTEND:20260616T093000Z
SUMMARY:Karl, zieh den Rock aus
DESCRIPTION:Auf unterhaltsame Weise werden sowohl aus Sicht der Kinder als auch aus Sicht von Zero, der keine gesellschaftliche Prägung hat, vorherrschende Rollenmuster hinterfragt.\n\nhttps://eventfrog.de/de/p/kinderveranstaltungen/kindertheater/karl-zieh-den-rock-aus-7435634967101603570.html
LOCATION:Theater Jaro
GEO:52.471759;13.307754
URL:https://eventfrog.de/de/p/kinderveranstaltungen/kindertheater/karl-zieh-den-rock-aus-7435634967101603570.html
END:VEVENT
BEGIN:VEVENT
UID:20260419T160156Z-7435635067647467043@eventfrog.de
DTSTAMP:20260419T160156Z
DTSTART:20260617T083000Z
DTEND:20260617T093000Z
SUMMARY:Karl, zieh den Rock aus
DESCRIPTION:Auf unterhaltsame Weise werden sowohl aus Sicht der Kinder als auch aus Sicht von Zero, der keine gesellschaftliche Prägung hat, vorherrschende Rollenmuster hinterfragt.\n\nhttps://eventfrog.de/de/p/kinderveranstaltungen/kindertheater/karl-zieh-den-rock-aus-7435635067647467043.html
LOCATION:Theater Jaro
GEO:52.471759;13.307754
URL:https://eventfrog.de/de/p/kinderveranstaltungen/kindertheater/karl-zieh-den-rock-aus-7435635067647467043.html
END:VEVENT
BEGIN:VEVENT
UID:20260419T160156Z-7435635067718770736@eventfrog.de
DTSTAMP:20260419T160156Z
DTSTART:20260620T140000Z
DTEND:20260620T150000Z
SUMMARY:Karl, zieh den Rock aus
DESCRIPTION:Auf unterhaltsame Weise werden sowohl aus Sicht der Kinder als auch aus Sicht von Zero, der keine gesellschaftliche Prägung hat, vorherrschende Rollenmuster hinterfragt.\n\nhttps://eventfrog.de/de/p/kinderveranstaltungen/kindertheater/karl-zieh-den-rock-aus-7435635067718770736.html
LOCATION:Theater Jaro
GEO:52.471759;13.307754
URL:https://eventfrog.de/de/p/kinderveranstaltungen/kindertheater/karl-zieh-den-rock-aus-7435635067718770736.html
END:VEVENT
BEGIN:VEVENT
UID:20260419T160156Z-7435635067781685397@eventfrog.de
DTSTAMP:20260419T160156Z
DTSTART:20260621T140000Z
DTEND:20260621T150000Z
SUMMARY:Karl, zieh den Rock aus
DESCRIPTION:Auf unterhaltsame Weise werden sowohl aus Sicht der Kinder als auch aus Sicht von Zero, der keine gesellschaftliche Prägung hat, vorherrschende Rollenmuster hinterfragt.\n\nhttps://eventfrog.de/de/p/kinderveranstaltungen/kindertheater/karl-zieh-den-rock-aus-7435635067781685397.html
LOCATION:Theater Jaro
GEO:52.471759;13.307754
URL:https://eventfrog.de/de/p/kinderveranstaltungen/kindertheater/karl-zieh-den-rock-aus-7435635067781685397.html
END:VEVENT
END:VCALENDAR