BEGIN:VCALENDAR
VERSION:2.0
PRODID:EVENTFROG//EVENTGROUP//ICAL
BEGIN:VEVENT
UID:20260421T182101Z-7337084411156905376@eventfrog.de
DTSTAMP:20260421T182101Z
DTSTART:20260726T150000Z
DTEND:20260726T180000Z
SUMMARY:Burgfestspiele "Eppelein von Gailingen"
DESCRIPTION:Open-Air-Veranstaltung "Eppelein von Gailingen" - ein sozialer Held in Konflikt mit der Nürnberger Stadtregierung in historischer Burg Burgthann.\n\nhttps://eventfrog.de/de/p/theater-buehne/theater/burgfestspiele-eppelein-von-gailingen-7337084411156905376.html
LOCATION:Burg Burgthann
GEO:49.355202;11.316166
URL:https://eventfrog.de/de/p/theater-buehne/theater/burgfestspiele-eppelein-von-gailingen-7337084411156905376.html
END:VEVENT
END:VCALENDAR