BEGIN:VCALENDAR
VERSION:2.0
PRODID:EVENTFROG//EVENTGROUP//ICAL
BEGIN:VEVENT
UID:20260423T070714Z-7438721138857925960@eventfrog.de
DTSTAMP:20260423T070714Z
DTSTART:20260426T104000Z
SUMMARY:Tatti, paese di sognatori
DESCRIPTION:Die gelungene Wiederbelebung eines toskanischen Städtchens.\n\nhttps://eventfrog.de/de/p/freizeit-ausfluege/tatti-paese-di-sognatori-7438721138857925960.html
LOCATION:Kinok – Cinema in der Lokremise
GEO:47.421287;9.366104
URL:https://eventfrog.de/de/p/freizeit-ausfluege/tatti-paese-di-sognatori-7438721138857925960.html
END:VEVENT
END:VCALENDAR