BEGIN:VCALENDAR
VERSION:2.0
PRODID:EVENTFROG//EVENTGROUP//ICAL
BEGIN:VEVENT
UID:20260422T200656Z-7443339976501138217@eventfrog.de
DTSTAMP:20260422T200656Z
DTSTART:20260424T080000Z
DTEND:20260424T160000Z
SUMMARY:Authentisch.Ehrlich.Roh. - Verbindungen zwischen Farbe & For
DESCRIPTION:Bild & Rahmen Hofmann präsentiert vom 24.4. bis 6.6. expressive Skulpturen von Carlin und abstrakte Malerei von Schweinsberg.\n\nhttps://eventfrog.de/de/p/kunst-ausstellungen/ausstellung/authentisch-ehrlich-roh-verbindungen-zwischen-farbe-for-7443339976501138217.html
LOCATION:Bild und Rahmen Hofmann
GEO:50.200423;8.582014
URL:https://eventfrog.de/de/p/kunst-ausstellungen/ausstellung/authentisch-ehrlich-roh-verbindungen-zwischen-farbe-for-7443339976501138217.html
END:VEVENT
BEGIN:VEVENT
UID:20260422T200656Z-7443339976568247083@eventfrog.de
DTSTAMP:20260422T200656Z
DTSTART:20260425T080000Z
DTEND:20260425T120000Z
SUMMARY:Authentisch.Ehrlich.Roh. - Verbindungen zwischen Farbe & For
DESCRIPTION:Bild & Rahmen Hofmann präsentiert vom 24.4. bis 6.6. expressive Skulpturen von Carlin und abstrakte Malerei von Schweinsberg.\n\nhttps://eventfrog.de/de/p/kunst-ausstellungen/ausstellung/authentisch-ehrlich-roh-verbindungen-zwischen-farbe-for-7443339976568247083.html
LOCATION:Bild und Rahmen Hofmann
GEO:50.200423;8.582014
URL:https://eventfrog.de/de/p/kunst-ausstellungen/ausstellung/authentisch-ehrlich-roh-verbindungen-zwischen-farbe-for-7443339976568247083.html
END:VEVENT
BEGIN:VEVENT
UID:20260422T200656Z-7443339976626967398@eventfrog.de
DTSTAMP:20260422T200656Z
DTSTART:20260429T080000Z
DTEND:20260429T160000Z
SUMMARY:Authentisch.Ehrlich.Roh. - Verbindungen zwischen Farbe & For
DESCRIPTION:Bild & Rahmen Hofmann präsentiert vom 24.4. bis 6.6. expressive Skulpturen von Carlin und abstrakte Malerei von Schweinsberg.\n\nhttps://eventfrog.de/de/p/kunst-ausstellungen/ausstellung/authentisch-ehrlich-roh-verbindungen-zwischen-farbe-for-7443339976626967398.html
LOCATION:Bild und Rahmen Hofmann
GEO:50.200423;8.582014
URL:https://eventfrog.de/de/p/kunst-ausstellungen/ausstellung/authentisch-ehrlich-roh-verbindungen-zwischen-farbe-for-7443339976626967398.html
END:VEVENT
BEGIN:VEVENT
UID:20260422T200656Z-7443339976689881960@eventfrog.de
DTSTAMP:20260422T200656Z
DTSTART:20260430T080000Z
DTEND:20260430T160000Z
SUMMARY:Authentisch.Ehrlich.Roh. - Verbindungen zwischen Farbe & For
DESCRIPTION:Bild & Rahmen Hofmann präsentiert vom 24.4. bis 6.6. expressive Skulpturen von Carlin und abstrakte Malerei von Schweinsberg.\n\nhttps://eventfrog.de/de/p/kunst-ausstellungen/ausstellung/authentisch-ehrlich-roh-verbindungen-zwischen-farbe-for-7443339976689881960.html
LOCATION:Bild und Rahmen Hofmann
GEO:50.200423;8.582014
URL:https://eventfrog.de/de/p/kunst-ausstellungen/ausstellung/authentisch-ehrlich-roh-verbindungen-zwischen-farbe-for-7443339976689881960.html
END:VEVENT
BEGIN:VEVENT
UID:20260422T200656Z-7443339976756990826@eventfrog.de
DTSTAMP:20260422T200656Z
DTSTART:20260501T080000Z
DTEND:20260501T160000Z
SUMMARY:Authentisch.Ehrlich.Roh. - Verbindungen zwischen Farbe & For
DESCRIPTION:Bild & Rahmen Hofmann präsentiert vom 24.4. bis 6.6. expressive Skulpturen von Carlin und abstrakte Malerei von Schweinsberg.\n\nhttps://eventfrog.de/de/p/kunst-ausstellungen/ausstellung/authentisch-ehrlich-roh-verbindungen-zwischen-farbe-for-7443339976756990826.html
LOCATION:Bild und Rahmen Hofmann
GEO:50.200423;8.582014
URL:https://eventfrog.de/de/p/kunst-ausstellungen/ausstellung/authentisch-ehrlich-roh-verbindungen-zwischen-farbe-for-7443339976756990826.html
END:VEVENT
BEGIN:VEVENT
UID:20260422T200656Z-7443339976819905388@eventfrog.de
DTSTAMP:20260422T200656Z
DTSTART:20260502T080000Z
DTEND:20260502T120000Z
SUMMARY:Authentisch.Ehrlich.Roh. - Verbindungen zwischen Farbe & For
DESCRIPTION:Bild & Rahmen Hofmann präsentiert vom 24.4. bis 6.6. expressive Skulpturen von Carlin und abstrakte Malerei von Schweinsberg.\n\nhttps://eventfrog.de/de/p/kunst-ausstellungen/ausstellung/authentisch-ehrlich-roh-verbindungen-zwischen-farbe-for-7443339976819905388.html
LOCATION:Bild und Rahmen Hofmann
GEO:50.200423;8.582014
URL:https://eventfrog.de/de/p/kunst-ausstellungen/ausstellung/authentisch-ehrlich-roh-verbindungen-zwischen-farbe-for-7443339976819905388.html
END:VEVENT
BEGIN:VEVENT
UID:20260422T200656Z-7443339976887014404@eventfrog.de
DTSTAMP:20260422T200656Z
DTSTART:20260506T080000Z
DTEND:20260506T160000Z
SUMMARY:Authentisch.Ehrlich.Roh. - Verbindungen zwischen Farbe & For
DESCRIPTION:Bild & Rahmen Hofmann präsentiert vom 24.4. bis 6.6. expressive Skulpturen von Carlin und abstrakte Malerei von Schweinsberg.\n\nhttps://eventfrog.de/de/p/kunst-ausstellungen/ausstellung/authentisch-ehrlich-roh-verbindungen-zwischen-farbe-for-7443339976887014404.html
LOCATION:Bild und Rahmen Hofmann
GEO:50.200423;8.582014
URL:https://eventfrog.de/de/p/kunst-ausstellungen/ausstellung/authentisch-ehrlich-roh-verbindungen-zwischen-farbe-for-7443339976887014404.html
END:VEVENT
BEGIN:VEVENT
UID:20260422T200656Z-7443339976962511890@eventfrog.de
DTSTAMP:20260422T200656Z
DTSTART:20260507T080000Z
DTEND:20260507T160000Z
SUMMARY:Authentisch.Ehrlich.Roh. - Verbindungen zwischen Farbe & For
DESCRIPTION:Bild & Rahmen Hofmann präsentiert vom 24.4. bis 6.6. expressive Skulpturen von Carlin und abstrakte Malerei von Schweinsberg.\n\nhttps://eventfrog.de/de/p/kunst-ausstellungen/ausstellung/authentisch-ehrlich-roh-verbindungen-zwischen-farbe-for-7443339976962511890.html
LOCATION:Bild und Rahmen Hofmann
GEO:50.200423;8.582014
URL:https://eventfrog.de/de/p/kunst-ausstellungen/ausstellung/authentisch-ehrlich-roh-verbindungen-zwischen-farbe-for-7443339976962511890.html
END:VEVENT
BEGIN:VEVENT
UID:20260422T200656Z-7443339977021232148@eventfrog.de
DTSTAMP:20260422T200656Z
DTSTART:20260508T080000Z
DTEND:20260508T160000Z
SUMMARY:Authentisch.Ehrlich.Roh. - Verbindungen zwischen Farbe & For
DESCRIPTION:Bild & Rahmen Hofmann präsentiert vom 24.4. bis 6.6. expressive Skulpturen von Carlin und abstrakte Malerei von Schweinsberg.\n\nhttps://eventfrog.de/de/p/kunst-ausstellungen/ausstellung/authentisch-ehrlich-roh-verbindungen-zwischen-farbe-for-7443339977021232148.html
LOCATION:Bild und Rahmen Hofmann
GEO:50.200423;8.582014
URL:https://eventfrog.de/de/p/kunst-ausstellungen/ausstellung/authentisch-ehrlich-roh-verbindungen-zwischen-farbe-for-7443339977021232148.html
END:VEVENT
BEGIN:VEVENT
UID:20260422T200656Z-7443339977084146951@eventfrog.de
DTSTAMP:20260422T200656Z
DTSTART:20260509T080000Z
DTEND:20260509T120000Z
SUMMARY:Authentisch.Ehrlich.Roh. - Verbindungen zwischen Farbe & For
DESCRIPTION:Bild & Rahmen Hofmann präsentiert vom 24.4. bis 6.6. expressive Skulpturen von Carlin und abstrakte Malerei von Schweinsberg.\n\nhttps://eventfrog.de/de/p/kunst-ausstellungen/ausstellung/authentisch-ehrlich-roh-verbindungen-zwischen-farbe-for-7443339977084146951.html
LOCATION:Bild und Rahmen Hofmann
GEO:50.200423;8.582014
URL:https://eventfrog.de/de/p/kunst-ausstellungen/ausstellung/authentisch-ehrlich-roh-verbindungen-zwischen-farbe-for-7443339977084146951.html
END:VEVENT
BEGIN:VEVENT
UID:20260422T200656Z-7443339977142867209@eventfrog.de
DTSTAMP:20260422T200656Z
DTSTART:20260513T080000Z
DTEND:20260513T160000Z
SUMMARY:Authentisch.Ehrlich.Roh. - Verbindungen zwischen Farbe & For
DESCRIPTION:Bild & Rahmen Hofmann präsentiert vom 24.4. bis 6.6. expressive Skulpturen von Carlin und abstrakte Malerei von Schweinsberg.\n\nhttps://eventfrog.de/de/p/kunst-ausstellungen/ausstellung/authentisch-ehrlich-roh-verbindungen-zwischen-farbe-for-7443339977142867209.html
LOCATION:Bild und Rahmen Hofmann
GEO:50.200423;8.582014
URL:https://eventfrog.de/de/p/kunst-ausstellungen/ausstellung/authentisch-ehrlich-roh-verbindungen-zwischen-farbe-for-7443339977142867209.html
END:VEVENT
BEGIN:VEVENT
UID:20260422T200656Z-7443339977201587467@eventfrog.de
DTSTAMP:20260422T200656Z
DTSTART:20260514T080000Z
DTEND:20260514T160000Z
SUMMARY:Authentisch.Ehrlich.Roh. - Verbindungen zwischen Farbe & For
DESCRIPTION:Bild & Rahmen Hofmann präsentiert vom 24.4. bis 6.6. expressive Skulpturen von Carlin und abstrakte Malerei von Schweinsberg.\n\nhttps://eventfrog.de/de/p/kunst-ausstellungen/ausstellung/authentisch-ehrlich-roh-verbindungen-zwischen-farbe-for-7443339977201587467.html
LOCATION:Bild und Rahmen Hofmann
GEO:50.200423;8.582014
URL:https://eventfrog.de/de/p/kunst-ausstellungen/ausstellung/authentisch-ehrlich-roh-verbindungen-zwischen-farbe-for-7443339977201587467.html
END:VEVENT
BEGIN:VEVENT
UID:20260422T200656Z-7443339977260307725@eventfrog.de
DTSTAMP:20260422T200656Z
DTSTART:20260515T080000Z
DTEND:20260515T160000Z
SUMMARY:Authentisch.Ehrlich.Roh. - Verbindungen zwischen Farbe & For
DESCRIPTION:Bild & Rahmen Hofmann präsentiert vom 24.4. bis 6.6. expressive Skulpturen von Carlin und abstrakte Malerei von Schweinsberg.\n\nhttps://eventfrog.de/de/p/kunst-ausstellungen/ausstellung/authentisch-ehrlich-roh-verbindungen-zwischen-farbe-for-7443339977260307725.html
LOCATION:Bild und Rahmen Hofmann
GEO:50.200423;8.582014
URL:https://eventfrog.de/de/p/kunst-ausstellungen/ausstellung/authentisch-ehrlich-roh-verbindungen-zwischen-farbe-for-7443339977260307725.html
END:VEVENT
BEGIN:VEVENT
UID:20260422T200656Z-7443339977319027983@eventfrog.de
DTSTAMP:20260422T200656Z
DTSTART:20260516T080000Z
DTEND:20260516T120000Z
SUMMARY:Authentisch.Ehrlich.Roh. - Verbindungen zwischen Farbe & For
DESCRIPTION:Bild & Rahmen Hofmann präsentiert vom 24.4. bis 6.6. expressive Skulpturen von Carlin und abstrakte Malerei von Schweinsberg.\n\nhttps://eventfrog.de/de/p/kunst-ausstellungen/ausstellung/authentisch-ehrlich-roh-verbindungen-zwischen-farbe-for-7443339977319027983.html
LOCATION:Bild und Rahmen Hofmann
GEO:50.200423;8.582014
URL:https://eventfrog.de/de/p/kunst-ausstellungen/ausstellung/authentisch-ehrlich-roh-verbindungen-zwischen-farbe-for-7443339977319027983.html
END:VEVENT
BEGIN:VEVENT
UID:20260422T200656Z-7443339977394525457@eventfrog.de
DTSTAMP:20260422T200656Z
DTSTART:20260520T080000Z
DTEND:20260520T160000Z
SUMMARY:Authentisch.Ehrlich.Roh. - Verbindungen zwischen Farbe & For
DESCRIPTION:Bild & Rahmen Hofmann präsentiert vom 24.4. bis 6.6. expressive Skulpturen von Carlin und abstrakte Malerei von Schweinsberg.\n\nhttps://eventfrog.de/de/p/kunst-ausstellungen/ausstellung/authentisch-ehrlich-roh-verbindungen-zwischen-farbe-for-7443339977394525457.html
LOCATION:Bild und Rahmen Hofmann
GEO:50.200423;8.582014
URL:https://eventfrog.de/de/p/kunst-ausstellungen/ausstellung/authentisch-ehrlich-roh-verbindungen-zwischen-farbe-for-7443339977394525457.html
END:VEVENT
BEGIN:VEVENT
UID:20260422T200656Z-7443339977453245715@eventfrog.de
DTSTAMP:20260422T200656Z
DTSTART:20260521T080000Z
DTEND:20260521T160000Z
SUMMARY:Authentisch.Ehrlich.Roh. - Verbindungen zwischen Farbe & For
DESCRIPTION:Bild & Rahmen Hofmann präsentiert vom 24.4. bis 6.6. expressive Skulpturen von Carlin und abstrakte Malerei von Schweinsberg.\n\nhttps://eventfrog.de/de/p/kunst-ausstellungen/ausstellung/authentisch-ehrlich-roh-verbindungen-zwischen-farbe-for-7443339977453245715.html
LOCATION:Bild und Rahmen Hofmann
GEO:50.200423;8.582014
URL:https://eventfrog.de/de/p/kunst-ausstellungen/ausstellung/authentisch-ehrlich-roh-verbindungen-zwischen-farbe-for-7443339977453245715.html
END:VEVENT
BEGIN:VEVENT
UID:20260422T200656Z-7443339977516160277@eventfrog.de
DTSTAMP:20260422T200656Z
DTSTART:20260522T080000Z
DTEND:20260522T160000Z
SUMMARY:Authentisch.Ehrlich.Roh. - Verbindungen zwischen Farbe & For
DESCRIPTION:Bild & Rahmen Hofmann präsentiert vom 24.4. bis 6.6. expressive Skulpturen von Carlin und abstrakte Malerei von Schweinsberg.\n\nhttps://eventfrog.de/de/p/kunst-ausstellungen/ausstellung/authentisch-ehrlich-roh-verbindungen-zwischen-farbe-for-7443339977516160277.html
LOCATION:Bild und Rahmen Hofmann
GEO:50.200423;8.582014
URL:https://eventfrog.de/de/p/kunst-ausstellungen/ausstellung/authentisch-ehrlich-roh-verbindungen-zwischen-farbe-for-7443339977516160277.html
END:VEVENT
BEGIN:VEVENT
UID:20260422T200656Z-7443339977574880535@eventfrog.de
DTSTAMP:20260422T200656Z
DTSTART:20260523T080000Z
DTEND:20260523T120000Z
SUMMARY:Authentisch.Ehrlich.Roh. - Verbindungen zwischen Farbe & For
DESCRIPTION:Bild & Rahmen Hofmann präsentiert vom 24.4. bis 6.6. expressive Skulpturen von Carlin und abstrakte Malerei von Schweinsberg.\n\nhttps://eventfrog.de/de/p/kunst-ausstellungen/ausstellung/authentisch-ehrlich-roh-verbindungen-zwischen-farbe-for-7443339977574880535.html
LOCATION:Bild und Rahmen Hofmann
GEO:50.200423;8.582014
URL:https://eventfrog.de/de/p/kunst-ausstellungen/ausstellung/authentisch-ehrlich-roh-verbindungen-zwischen-farbe-for-7443339977574880535.html
END:VEVENT
BEGIN:VEVENT
UID:20260422T200656Z-7443339977633600807@eventfrog.de
DTSTAMP:20260422T200656Z
DTSTART:20260527T080000Z
DTEND:20260527T160000Z
SUMMARY:Authentisch.Ehrlich.Roh. - Verbindungen zwischen Farbe & For
DESCRIPTION:Bild & Rahmen Hofmann präsentiert vom 24.4. bis 6.6. expressive Skulpturen von Carlin und abstrakte Malerei von Schweinsberg.\n\nhttps://eventfrog.de/de/p/kunst-ausstellungen/ausstellung/authentisch-ehrlich-roh-verbindungen-zwischen-farbe-for-7443339977633600807.html
LOCATION:Bild und Rahmen Hofmann
GEO:50.200423;8.582014
URL:https://eventfrog.de/de/p/kunst-ausstellungen/ausstellung/authentisch-ehrlich-roh-verbindungen-zwischen-farbe-for-7443339977633600807.html
END:VEVENT
BEGIN:VEVENT
UID:20260422T200656Z-7443339977692321068@eventfrog.de
DTSTAMP:20260422T200656Z
DTSTART:20260528T080000Z
DTEND:20260528T160000Z
SUMMARY:Authentisch.Ehrlich.Roh. - Verbindungen zwischen Farbe & For
DESCRIPTION:Bild & Rahmen Hofmann präsentiert vom 24.4. bis 6.6. expressive Skulpturen von Carlin und abstrakte Malerei von Schweinsberg.\n\nhttps://eventfrog.de/de/p/kunst-ausstellungen/ausstellung/authentisch-ehrlich-roh-verbindungen-zwischen-farbe-for-7443339977692321068.html
LOCATION:Bild und Rahmen Hofmann
GEO:50.200423;8.582014
URL:https://eventfrog.de/de/p/kunst-ausstellungen/ausstellung/authentisch-ehrlich-roh-verbindungen-zwischen-farbe-for-7443339977692321068.html
END:VEVENT
BEGIN:VEVENT
UID:20260422T200656Z-7443339977751041331@eventfrog.de
DTSTAMP:20260422T200656Z
DTSTART:20260529T080000Z
DTEND:20260529T160000Z
SUMMARY:Authentisch.Ehrlich.Roh. - Verbindungen zwischen Farbe & For
DESCRIPTION:Bild & Rahmen Hofmann präsentiert vom 24.4. bis 6.6. expressive Skulpturen von Carlin und abstrakte Malerei von Schweinsberg.\n\nhttps://eventfrog.de/de/p/kunst-ausstellungen/ausstellung/authentisch-ehrlich-roh-verbindungen-zwischen-farbe-for-7443339977751041331.html
LOCATION:Bild und Rahmen Hofmann
GEO:50.200423;8.582014
URL:https://eventfrog.de/de/p/kunst-ausstellungen/ausstellung/authentisch-ehrlich-roh-verbindungen-zwischen-farbe-for-7443339977751041331.html
END:VEVENT
BEGIN:VEVENT
UID:20260422T200656Z-7443339977826538809@eventfrog.de
DTSTAMP:20260422T200656Z
DTSTART:20260530T080000Z
DTEND:20260530T120000Z
SUMMARY:Authentisch.Ehrlich.Roh. - Verbindungen zwischen Farbe & For
DESCRIPTION:Bild & Rahmen Hofmann präsentiert vom 24.4. bis 6.6. expressive Skulpturen von Carlin und abstrakte Malerei von Schweinsberg.\n\nhttps://eventfrog.de/de/p/kunst-ausstellungen/ausstellung/authentisch-ehrlich-roh-verbindungen-zwischen-farbe-for-7443339977826538809.html
LOCATION:Bild und Rahmen Hofmann
GEO:50.200423;8.582014
URL:https://eventfrog.de/de/p/kunst-ausstellungen/ausstellung/authentisch-ehrlich-roh-verbindungen-zwischen-farbe-for-7443339977826538809.html
END:VEVENT
BEGIN:VEVENT
UID:20260422T200656Z-7443339977893647675@eventfrog.de
DTSTAMP:20260422T200656Z
DTSTART:20260603T080000Z
DTEND:20260603T160000Z
SUMMARY:Authentisch.Ehrlich.Roh. - Verbindungen zwischen Farbe & For
DESCRIPTION:Bild & Rahmen Hofmann präsentiert vom 24.4. bis 6.6. expressive Skulpturen von Carlin und abstrakte Malerei von Schweinsberg.\n\nhttps://eventfrog.de/de/p/kunst-ausstellungen/ausstellung/authentisch-ehrlich-roh-verbindungen-zwischen-farbe-for-7443339977893647675.html
LOCATION:Bild und Rahmen Hofmann
GEO:50.200423;8.582014
URL:https://eventfrog.de/de/p/kunst-ausstellungen/ausstellung/authentisch-ehrlich-roh-verbindungen-zwischen-farbe-for-7443339977893647675.html
END:VEVENT
BEGIN:VEVENT
UID:20260422T200656Z-7443339977969145168@eventfrog.de
DTSTAMP:20260422T200656Z
DTSTART:20260604T080000Z
DTEND:20260604T160000Z
SUMMARY:Authentisch.Ehrlich.Roh. - Verbindungen zwischen Farbe & For
DESCRIPTION:Bild & Rahmen Hofmann präsentiert vom 24.4. bis 6.6. expressive Skulpturen von Carlin und abstrakte Malerei von Schweinsberg.\n\nhttps://eventfrog.de/de/p/kunst-ausstellungen/ausstellung/authentisch-ehrlich-roh-verbindungen-zwischen-farbe-for-7443339977969145168.html
LOCATION:Bild und Rahmen Hofmann
GEO:50.200423;8.582014
URL:https://eventfrog.de/de/p/kunst-ausstellungen/ausstellung/authentisch-ehrlich-roh-verbindungen-zwischen-farbe-for-7443339977969145168.html
END:VEVENT
BEGIN:VEVENT
UID:20260422T200656Z-7443339978048836960@eventfrog.de
DTSTAMP:20260422T200656Z
DTSTART:20260605T080000Z
DTEND:20260605T160000Z
SUMMARY:Authentisch.Ehrlich.Roh. - Verbindungen zwischen Farbe & For
DESCRIPTION:Bild & Rahmen Hofmann präsentiert vom 24.4. bis 6.6. expressive Skulpturen von Carlin und abstrakte Malerei von Schweinsberg.\n\nhttps://eventfrog.de/de/p/kunst-ausstellungen/ausstellung/authentisch-ehrlich-roh-verbindungen-zwischen-farbe-for-7443339978048836960.html
LOCATION:Bild und Rahmen Hofmann
GEO:50.200423;8.582014
URL:https://eventfrog.de/de/p/kunst-ausstellungen/ausstellung/authentisch-ehrlich-roh-verbindungen-zwischen-farbe-for-7443339978048836960.html
END:VEVENT
BEGIN:VEVENT
UID:20260422T200656Z-7443339978111751526@eventfrog.de
DTSTAMP:20260422T200656Z
DTSTART:20260606T080000Z
DTEND:20260606T120000Z
SUMMARY:Authentisch.Ehrlich.Roh. - Verbindungen zwischen Farbe & For
DESCRIPTION:Bild & Rahmen Hofmann präsentiert vom 24.4. bis 6.6. expressive Skulpturen von Carlin und abstrakte Malerei von Schweinsberg.\n\nhttps://eventfrog.de/de/p/kunst-ausstellungen/ausstellung/authentisch-ehrlich-roh-verbindungen-zwischen-farbe-for-7443339978111751526.html
LOCATION:Bild und Rahmen Hofmann
GEO:50.200423;8.582014
URL:https://eventfrog.de/de/p/kunst-ausstellungen/ausstellung/authentisch-ehrlich-roh-verbindungen-zwischen-farbe-for-7443339978111751526.html
END:VEVENT
END:VCALENDAR