BEGIN:VCALENDAR
VERSION:2.0
PRODID:EVENTFROG//EVENTGROUP//ICAL
BEGIN:VEVENT
UID:20260424T123738Z-7418640754564713129@eventfrog.de
DTSTAMP:20260424T123738Z
DTSTART:20260626T190000Z
DTEND:20260626T215900Z
SUMMARY:Filmtage Eschenz :: Die Rosenschlacht
DESCRIPTION:Open Air Kino zeigt die Komödie über ein Ehepaar, dessen scheinbar perfektes Leben durch Karrierekonflikte ins Wanken gerät.\n\nhttps://eventfrog.de/de/p/freizeit-ausfluege/film-kino/filmtage-eschenz-die-rosenschlacht-7418640754564713129.html
LOCATION:Sportplatz Staad
GEO:47.652140;8.880310
URL:https://eventfrog.de/de/p/freizeit-ausfluege/film-kino/filmtage-eschenz-die-rosenschlacht-7418640754564713129.html
END:VEVENT
BEGIN:VEVENT
UID:20260424T123738Z-7418645346039930526@eventfrog.de
DTSTAMP:20260424T123738Z
DTSTART:20260627T190000Z
DTEND:20260627T215900Z
SUMMARY:Filmtage Eschenz :: Hallo Betty
DESCRIPTION:Open Air Kino zeigt «Betty Bossi»: Werbetexterin Emmi erschafft 1956 eine Schweizer Kochikone, kämpft mit Beruf und Familie.\n\nhttps://eventfrog.de/de/p/freizeit-ausfluege/film-kino/filmtage-eschenz-hallo-betty-7418645346039930526.html
LOCATION:Sportplatz Staad
GEO:47.652140;8.880310
URL:https://eventfrog.de/de/p/freizeit-ausfluege/film-kino/filmtage-eschenz-hallo-betty-7418645346039930526.html
END:VEVENT
BEGIN:VEVENT
UID:20260424T123738Z-7418646978114924251@eventfrog.de
DTSTAMP:20260424T123738Z
DTSTART:20260628T190000Z
DTEND:20260628T215900Z
SUMMARY:Filmtage Eschenz :: Der Pinguin meines Lebens
DESCRIPTION:Open Air Kino zeigt eine Geschichte eines Lehrers in Buenos Aires der 1970er mit einem geretteten Pinguin.\n\nhttps://eventfrog.de/de/p/freizeit-ausfluege/film-kino/filmtage-eschenz-der-pinguin-meines-lebens-7418646978114924251.html
LOCATION:Sportplatz Staad
GEO:47.652140;8.880310
URL:https://eventfrog.de/de/p/freizeit-ausfluege/film-kino/filmtage-eschenz-der-pinguin-meines-lebens-7418646978114924251.html
END:VEVENT
END:VCALENDAR