BEGIN:VCALENDAR
VERSION:2.0
PRODID:EVENTFROG//EVENTGROUP//ICAL
BEGIN:VEVENT
UID:20260422T181516Z-7445886995610503706@eventfrog.de
DTSTAMP:20260422T181516Z
DTSTART:20260520T170000Z
DTEND:20260520T190000Z
SUMMARY:Faust Forward
DESCRIPTION:Das berühmte Drama um Faust, der seine Seele an Mephisto verwettet, um mehr Leben und Liebe zu erfahren. Freuen Sie sich auf Goethes bekanntestes Werk in zeitgenössischer Sprache und Spielfilmlänge.\n\nhttps://eventfrog.de/de/p/theater-buehne/theater/faust-forward-7445886995610503706.html
LOCATION:Mannheimer Abendakademie
GEO:49.492328;8.471048
URL:https://eventfrog.de/de/p/theater-buehne/theater/faust-forward-7445886995610503706.html
END:VEVENT
BEGIN:VEVENT
UID:20260422T181516Z-7445887746869059684@eventfrog.de
DTSTAMP:20260422T181516Z
DTSTART:20260521T163000Z
DTEND:20260521T190000Z
SUMMARY:Faust Forward
DESCRIPTION:Das berühmte Drama um Faust, der seine Seele an Mephisto verwettet, um mehr Leben und Liebe zu erfahren. Freuen Sie sich auf Goethes bekanntestes Werk in zeitgenössischer Sprache und Spielfilmlänge.\n\nhttps://eventfrog.de/de/p/theater-buehne/theater/faust-forward-7445887746869059684.html
LOCATION:Mannheimer Abendakademie
GEO:49.492328;8.471048
URL:https://eventfrog.de/de/p/theater-buehne/theater/faust-forward-7445887746869059684.html
END:VEVENT
BEGIN:VEVENT
UID:20260422T181516Z-7445887747003278019@eventfrog.de
DTSTAMP:20260422T181516Z
DTSTART:20260522T170000Z
DTEND:20260522T190000Z
SUMMARY:Faust Forward
DESCRIPTION:Das berühmte Drama um Faust, der seine Seele an Mephisto verwettet, um mehr Leben und Liebe zu erfahren. Freuen Sie sich auf Goethes bekanntestes Werk in zeitgenössischer Sprache und Spielfilmlänge.\n\nhttps://eventfrog.de/de/p/theater-buehne/theater/faust-forward-7445887747003278019.html
LOCATION:Mannheimer Abendakademie
GEO:49.492328;8.471048
URL:https://eventfrog.de/de/p/theater-buehne/theater/faust-forward-7445887747003278019.html
END:VEVENT
BEGIN:VEVENT
UID:20260422T181516Z-7445887747175244601@eventfrog.de
DTSTAMP:20260422T181516Z
DTSTART:20260523T090000Z
DTEND:20260523T110000Z
SUMMARY:Faust Forward
DESCRIPTION:Das berühmte Drama um Faust, der seine Seele an Mephisto verwettet, um mehr Leben und Liebe zu erfahren. Freuen Sie sich auf Goethes bekanntestes Werk in zeitgenössischer Sprache und Spielfilmlänge.\n\nhttps://eventfrog.de/de/p/theater-buehne/theater/faust-forward-7445887747175244601.html
LOCATION:Mannheimer Abendakademie
GEO:49.492328;8.471048
URL:https://eventfrog.de/de/p/theater-buehne/theater/faust-forward-7445887747175244601.html
END:VEVENT
END:VCALENDAR