BEGIN:VCALENDAR
VERSION:2.0
PRODID:EVENTFROG//EVENTGROUP//ICAL
BEGIN:VEVENT
UID:20260421T011145Z-7447593268391454929@eventfrog.de
DTSTAMP:20260421T011145Z
DTSTART:20260506T163000Z
DTEND:20260506T180000Z
SUMMARY:Community Music
DESCRIPTION:Jeden 1. und 3. Mittwoch treffen sich Anfänger und Spieler von 18:30 bis 20:00 Uhr zum gemeinsamen Musizieren - Teilnahme kostenlos.\n\nhttps://eventfrog.de/de/p/kurse-seminare/freizeit-hobby/community-music-7447593268391454929.html
LOCATION:Kulturhaus Milbertshofen
GEO:48.182056;11.567207
URL:https://eventfrog.de/de/p/kurse-seminare/freizeit-hobby/community-music-7447593268391454929.html
END:VEVENT
BEGIN:VEVENT
UID:20260421T011145Z-7447593370392743554@eventfrog.de
DTSTAMP:20260421T011145Z
DTSTART:20260520T163000Z
DTEND:20260520T180000Z
SUMMARY:Community Music
DESCRIPTION:Jeden 1. und 3. Mittwoch treffen sich Anfänger und Spieler von 18:30 bis 20:00 Uhr zum gemeinsamen Musizieren - Teilnahme kostenlos.\n\nhttps://eventfrog.de/de/p/kurse-seminare/freizeit-hobby/community-music-7447593370392743554.html
LOCATION:Kulturhaus Milbertshofen
GEO:48.182056;11.567207
URL:https://eventfrog.de/de/p/kurse-seminare/freizeit-hobby/community-music-7447593370392743554.html
END:VEVENT
BEGIN:VEVENT
UID:20260421T011145Z-7447593370543739109@eventfrog.de
DTSTAMP:20260421T011145Z
DTSTART:20260603T163000Z
DTEND:20260603T180000Z
SUMMARY:Community Music
DESCRIPTION:Jeden 1. und 3. Mittwoch treffen sich Anfänger und Spieler von 18:30 bis 20:00 Uhr zum gemeinsamen Musizieren - Teilnahme kostenlos.\n\nhttps://eventfrog.de/de/p/kurse-seminare/freizeit-hobby/community-music-7447593370543739109.html
LOCATION:Kulturhaus Milbertshofen
GEO:48.182056;11.567207
URL:https://eventfrog.de/de/p/kurse-seminare/freizeit-hobby/community-music-7447593370543739109.html
END:VEVENT
BEGIN:VEVENT
UID:20260421T011145Z-7447593370661179623@eventfrog.de
DTSTAMP:20260421T011145Z
DTSTART:20260617T163000Z
DTEND:20260617T180000Z
SUMMARY:Community Music
DESCRIPTION:Jeden 1. und 3. Mittwoch treffen sich Anfänger und Spieler von 18:30 bis 20:00 Uhr zum gemeinsamen Musizieren - Teilnahme kostenlos.\n\nhttps://eventfrog.de/de/p/kurse-seminare/freizeit-hobby/community-music-7447593370661179623.html
LOCATION:Kulturhaus Milbertshofen
GEO:48.182056;11.567207
URL:https://eventfrog.de/de/p/kurse-seminare/freizeit-hobby/community-music-7447593370661179623.html
END:VEVENT
BEGIN:VEVENT
UID:20260421T011145Z-7447593370799591724@eventfrog.de
DTSTAMP:20260421T011145Z
DTSTART:20260701T163000Z
DTEND:20260701T180000Z
SUMMARY:Community Music
DESCRIPTION:Jeden 1. und 3. Mittwoch treffen sich Anfänger und Spieler von 18:30 bis 20:00 Uhr zum gemeinsamen Musizieren - Teilnahme kostenlos.\n\nhttps://eventfrog.de/de/p/kurse-seminare/freizeit-hobby/community-music-7447593370799591724.html
LOCATION:Kulturhaus Milbertshofen
GEO:48.182056;11.567207
URL:https://eventfrog.de/de/p/kurse-seminare/freizeit-hobby/community-music-7447593370799591724.html
END:VEVENT
END:VCALENDAR