BEGIN:VCALENDAR
VERSION:2.0
PRODID:EVENTFROG//EVENTGROUP//ICAL
BEGIN:VEVENT
UID:20260422T112645Z-7447959773629168316@eventfrog.de
DTSTAMP:20260422T112645Z
DTSTART:20260501T100000Z
DTEND:20260501T160000Z
SUMMARY:Walid Raad: Like a rubber rung on a ladder
DESCRIPTION:Die Galerie Thomas Schulte zeigt im Corner Space sowie im danebenliegenden Raum mit Schaufenstern zur Straße Like a rubber rung on a ladder, eine Einzelausstellung von Walid Raad.\n\nhttps://eventfrog.de/de/p/kunst-ausstellungen/ausstellung/walid-raad-like-a-rubber-rung-on-a-ladder-7447959773629168316.html
LOCATION:Galerie Thomas Schulte
GEO:52.510226;13.392153
URL:https://eventfrog.de/de/p/kunst-ausstellungen/ausstellung/walid-raad-like-a-rubber-rung-on-a-ladder-7447959773629168316.html
END:VEVENT
BEGIN:VEVENT
UID:20260422T112645Z-7447959845746034200@eventfrog.de
DTSTAMP:20260422T112645Z
DTSTART:20260501T100000Z
DTEND:20260501T160000Z
SUMMARY:Walid Raad: Like a rubber rung on a ladder
DESCRIPTION:Die Galerie Thomas Schulte zeigt im Corner Space sowie im danebenliegenden Raum mit Schaufenstern zur Straße Like a rubber rung on a ladder, eine Einzelausstellung von Walid Raad.\n\nhttps://eventfrog.de/de/p/kunst-ausstellungen/ausstellung/walid-raad-like-a-rubber-rung-on-a-ladder-7447959845746034200.html
LOCATION:Galerie Thomas Schulte
GEO:52.510226;13.392153
URL:https://eventfrog.de/de/p/kunst-ausstellungen/ausstellung/walid-raad-like-a-rubber-rung-on-a-ladder-7447959845746034200.html
END:VEVENT
BEGIN:VEVENT
UID:20260422T112645Z-7447959845964138647@eventfrog.de
DTSTAMP:20260422T112645Z
DTSTART:20260502T100000Z
DTEND:20260502T160000Z
SUMMARY:Walid Raad: Like a rubber rung on a ladder
DESCRIPTION:Die Galerie Thomas Schulte zeigt im Corner Space sowie im danebenliegenden Raum mit Schaufenstern zur Straße Like a rubber rung on a ladder, eine Einzelausstellung von Walid Raad.\n\nhttps://eventfrog.de/de/p/kunst-ausstellungen/ausstellung/walid-raad-like-a-rubber-rung-on-a-ladder-7447959845964138647.html
LOCATION:Galerie Thomas Schulte
GEO:52.510226;13.392153
URL:https://eventfrog.de/de/p/kunst-ausstellungen/ausstellung/walid-raad-like-a-rubber-rung-on-a-ladder-7447959845964138647.html
END:VEVENT
BEGIN:VEVENT
UID:20260422T112645Z-7447959846148688090@eventfrog.de
DTSTAMP:20260422T112645Z
DTSTART:20260505T100000Z
DTEND:20260505T160000Z
SUMMARY:Walid Raad: Like a rubber rung on a ladder
DESCRIPTION:Die Galerie Thomas Schulte zeigt im Corner Space sowie im danebenliegenden Raum mit Schaufenstern zur Straße Like a rubber rung on a ladder, eine Einzelausstellung von Walid Raad.\n\nhttps://eventfrog.de/de/p/kunst-ausstellungen/ausstellung/walid-raad-like-a-rubber-rung-on-a-ladder-7447959846148688090.html
LOCATION:Galerie Thomas Schulte
GEO:52.510226;13.392153
URL:https://eventfrog.de/de/p/kunst-ausstellungen/ausstellung/walid-raad-like-a-rubber-rung-on-a-ladder-7447959846148688090.html
END:VEVENT
BEGIN:VEVENT
UID:20260422T112645Z-7447959846370986228@eventfrog.de
DTSTAMP:20260422T112645Z
DTSTART:20260506T100000Z
DTEND:20260506T160000Z
SUMMARY:Walid Raad: Like a rubber rung on a ladder
DESCRIPTION:Die Galerie Thomas Schulte zeigt im Corner Space sowie im danebenliegenden Raum mit Schaufenstern zur Straße Like a rubber rung on a ladder, eine Einzelausstellung von Walid Raad.\n\nhttps://eventfrog.de/de/p/kunst-ausstellungen/ausstellung/walid-raad-like-a-rubber-rung-on-a-ladder-7447959846370986228.html
LOCATION:Galerie Thomas Schulte
GEO:52.510226;13.392153
URL:https://eventfrog.de/de/p/kunst-ausstellungen/ausstellung/walid-raad-like-a-rubber-rung-on-a-ladder-7447959846370986228.html
END:VEVENT
BEGIN:VEVENT
UID:20260422T112645Z-7447959846605867254@eventfrog.de
DTSTAMP:20260422T112645Z
DTSTART:20260507T100000Z
DTEND:20260507T160000Z
SUMMARY:Walid Raad: Like a rubber rung on a ladder
DESCRIPTION:Die Galerie Thomas Schulte zeigt im Corner Space sowie im danebenliegenden Raum mit Schaufenstern zur Straße Like a rubber rung on a ladder, eine Einzelausstellung von Walid Raad.\n\nhttps://eventfrog.de/de/p/kunst-ausstellungen/ausstellung/walid-raad-like-a-rubber-rung-on-a-ladder-7447959846605867254.html
LOCATION:Galerie Thomas Schulte
GEO:52.510226;13.392153
URL:https://eventfrog.de/de/p/kunst-ausstellungen/ausstellung/walid-raad-like-a-rubber-rung-on-a-ladder-7447959846605867254.html
END:VEVENT
BEGIN:VEVENT
UID:20260422T112645Z-7447959846844942659@eventfrog.de
DTSTAMP:20260422T112645Z
DTSTART:20260508T100000Z
DTEND:20260508T160000Z
SUMMARY:Walid Raad: Like a rubber rung on a ladder
DESCRIPTION:Die Galerie Thomas Schulte zeigt im Corner Space sowie im danebenliegenden Raum mit Schaufenstern zur Straße Like a rubber rung on a ladder, eine Einzelausstellung von Walid Raad.\n\nhttps://eventfrog.de/de/p/kunst-ausstellungen/ausstellung/walid-raad-like-a-rubber-rung-on-a-ladder-7447959846844942659.html
LOCATION:Galerie Thomas Schulte
GEO:52.510226;13.392153
URL:https://eventfrog.de/de/p/kunst-ausstellungen/ausstellung/walid-raad-like-a-rubber-rung-on-a-ladder-7447959846844942659.html
END:VEVENT
BEGIN:VEVENT
UID:20260422T112645Z-7447959847008520522@eventfrog.de
DTSTAMP:20260422T112645Z
DTSTART:20260509T100000Z
DTEND:20260509T160000Z
SUMMARY:Walid Raad: Like a rubber rung on a ladder
DESCRIPTION:Die Galerie Thomas Schulte zeigt im Corner Space sowie im danebenliegenden Raum mit Schaufenstern zur Straße Like a rubber rung on a ladder, eine Einzelausstellung von Walid Raad.\n\nhttps://eventfrog.de/de/p/kunst-ausstellungen/ausstellung/walid-raad-like-a-rubber-rung-on-a-ladder-7447959847008520522.html
LOCATION:Galerie Thomas Schulte
GEO:52.510226;13.392153
URL:https://eventfrog.de/de/p/kunst-ausstellungen/ausstellung/walid-raad-like-a-rubber-rung-on-a-ladder-7447959847008520522.html
END:VEVENT
BEGIN:VEVENT
UID:20260422T112645Z-7447959847197264204@eventfrog.de
DTSTAMP:20260422T112645Z
DTSTART:20260512T100000Z
DTEND:20260512T160000Z
SUMMARY:Walid Raad: Like a rubber rung on a ladder
DESCRIPTION:Die Galerie Thomas Schulte zeigt im Corner Space sowie im danebenliegenden Raum mit Schaufenstern zur Straße Like a rubber rung on a ladder, eine Einzelausstellung von Walid Raad.\n\nhttps://eventfrog.de/de/p/kunst-ausstellungen/ausstellung/walid-raad-like-a-rubber-rung-on-a-ladder-7447959847197264204.html
LOCATION:Galerie Thomas Schulte
GEO:52.510226;13.392153
URL:https://eventfrog.de/de/p/kunst-ausstellungen/ausstellung/walid-raad-like-a-rubber-rung-on-a-ladder-7447959847197264204.html
END:VEVENT
BEGIN:VEVENT
UID:20260422T112645Z-7447959847373424975@eventfrog.de
DTSTAMP:20260422T112645Z
DTSTART:20260513T100000Z
DTEND:20260513T160000Z
SUMMARY:Walid Raad: Like a rubber rung on a ladder
DESCRIPTION:Die Galerie Thomas Schulte zeigt im Corner Space sowie im danebenliegenden Raum mit Schaufenstern zur Straße Like a rubber rung on a ladder, eine Einzelausstellung von Walid Raad.\n\nhttps://eventfrog.de/de/p/kunst-ausstellungen/ausstellung/walid-raad-like-a-rubber-rung-on-a-ladder-7447959847373424975.html
LOCATION:Galerie Thomas Schulte
GEO:52.510226;13.392153
URL:https://eventfrog.de/de/p/kunst-ausstellungen/ausstellung/walid-raad-like-a-rubber-rung-on-a-ladder-7447959847373424975.html
END:VEVENT
BEGIN:VEVENT
UID:20260422T112645Z-7447959847591528785@eventfrog.de
DTSTAMP:20260422T112645Z
DTSTART:20260514T100000Z
DTEND:20260514T160000Z
SUMMARY:Walid Raad: Like a rubber rung on a ladder
DESCRIPTION:Die Galerie Thomas Schulte zeigt im Corner Space sowie im danebenliegenden Raum mit Schaufenstern zur Straße Like a rubber rung on a ladder, eine Einzelausstellung von Walid Raad.\n\nhttps://eventfrog.de/de/p/kunst-ausstellungen/ausstellung/walid-raad-like-a-rubber-rung-on-a-ladder-7447959847591528785.html
LOCATION:Galerie Thomas Schulte
GEO:52.510226;13.392153
URL:https://eventfrog.de/de/p/kunst-ausstellungen/ausstellung/walid-raad-like-a-rubber-rung-on-a-ladder-7447959847591528785.html
END:VEVENT
BEGIN:VEVENT
UID:20260422T112645Z-7447959847763495251@eventfrog.de
DTSTAMP:20260422T112645Z
DTSTART:20260515T100000Z
DTEND:20260515T160000Z
SUMMARY:Walid Raad: Like a rubber rung on a ladder
DESCRIPTION:Die Galerie Thomas Schulte zeigt im Corner Space sowie im danebenliegenden Raum mit Schaufenstern zur Straße Like a rubber rung on a ladder, eine Einzelausstellung von Walid Raad.\n\nhttps://eventfrog.de/de/p/kunst-ausstellungen/ausstellung/walid-raad-like-a-rubber-rung-on-a-ladder-7447959847763495251.html
LOCATION:Galerie Thomas Schulte
GEO:52.510226;13.392153
URL:https://eventfrog.de/de/p/kunst-ausstellungen/ausstellung/walid-raad-like-a-rubber-rung-on-a-ladder-7447959847763495251.html
END:VEVENT
BEGIN:VEVENT
UID:20260422T112645Z-7447959847939656021@eventfrog.de
DTSTAMP:20260422T112645Z
DTSTART:20260516T100000Z
DTEND:20260516T160000Z
SUMMARY:Walid Raad: Like a rubber rung on a ladder
DESCRIPTION:Die Galerie Thomas Schulte zeigt im Corner Space sowie im danebenliegenden Raum mit Schaufenstern zur Straße Like a rubber rung on a ladder, eine Einzelausstellung von Walid Raad.\n\nhttps://eventfrog.de/de/p/kunst-ausstellungen/ausstellung/walid-raad-like-a-rubber-rung-on-a-ladder-7447959847939656021.html
LOCATION:Galerie Thomas Schulte
GEO:52.510226;13.392153
URL:https://eventfrog.de/de/p/kunst-ausstellungen/ausstellung/walid-raad-like-a-rubber-rung-on-a-ladder-7447959847939656021.html
END:VEVENT
BEGIN:VEVENT
UID:20260422T112645Z-7447959848153565527@eventfrog.de
DTSTAMP:20260422T112645Z
DTSTART:20260519T100000Z
DTEND:20260519T160000Z
SUMMARY:Walid Raad: Like a rubber rung on a ladder
DESCRIPTION:Die Galerie Thomas Schulte zeigt im Corner Space sowie im danebenliegenden Raum mit Schaufenstern zur Straße Like a rubber rung on a ladder, eine Einzelausstellung von Walid Raad.\n\nhttps://eventfrog.de/de/p/kunst-ausstellungen/ausstellung/walid-raad-like-a-rubber-rung-on-a-ladder-7447959848153565527.html
LOCATION:Galerie Thomas Schulte
GEO:52.510226;13.392153
URL:https://eventfrog.de/de/p/kunst-ausstellungen/ausstellung/walid-raad-like-a-rubber-rung-on-a-ladder-7447959848153565527.html
END:VEVENT
BEGIN:VEVENT
UID:20260422T112645Z-7447959848333920601@eventfrog.de
DTSTAMP:20260422T112645Z
DTSTART:20260520T100000Z
DTEND:20260520T160000Z
SUMMARY:Walid Raad: Like a rubber rung on a ladder
DESCRIPTION:Die Galerie Thomas Schulte zeigt im Corner Space sowie im danebenliegenden Raum mit Schaufenstern zur Straße Like a rubber rung on a ladder, eine Einzelausstellung von Walid Raad.\n\nhttps://eventfrog.de/de/p/kunst-ausstellungen/ausstellung/walid-raad-like-a-rubber-rung-on-a-ladder-7447959848333920601.html
LOCATION:Galerie Thomas Schulte
GEO:52.510226;13.392153
URL:https://eventfrog.de/de/p/kunst-ausstellungen/ausstellung/walid-raad-like-a-rubber-rung-on-a-ladder-7447959848333920601.html
END:VEVENT
BEGIN:VEVENT
UID:20260422T112645Z-7447959848526858587@eventfrog.de
DTSTAMP:20260422T112645Z
DTSTART:20260521T100000Z
DTEND:20260521T160000Z
SUMMARY:Walid Raad: Like a rubber rung on a ladder
DESCRIPTION:Die Galerie Thomas Schulte zeigt im Corner Space sowie im danebenliegenden Raum mit Schaufenstern zur Straße Like a rubber rung on a ladder, eine Einzelausstellung von Walid Raad.\n\nhttps://eventfrog.de/de/p/kunst-ausstellungen/ausstellung/walid-raad-like-a-rubber-rung-on-a-ladder-7447959848526858587.html
LOCATION:Galerie Thomas Schulte
GEO:52.510226;13.392153
URL:https://eventfrog.de/de/p/kunst-ausstellungen/ausstellung/walid-raad-like-a-rubber-rung-on-a-ladder-7447959848526858587.html
END:VEVENT
BEGIN:VEVENT
UID:20260422T112645Z-7447959848744962397@eventfrog.de
DTSTAMP:20260422T112645Z
DTSTART:20260522T100000Z
DTEND:20260522T160000Z
SUMMARY:Walid Raad: Like a rubber rung on a ladder
DESCRIPTION:Die Galerie Thomas Schulte zeigt im Corner Space sowie im danebenliegenden Raum mit Schaufenstern zur Straße Like a rubber rung on a ladder, eine Einzelausstellung von Walid Raad.\n\nhttps://eventfrog.de/de/p/kunst-ausstellungen/ausstellung/walid-raad-like-a-rubber-rung-on-a-ladder-7447959848744962397.html
LOCATION:Galerie Thomas Schulte
GEO:52.510226;13.392153
URL:https://eventfrog.de/de/p/kunst-ausstellungen/ausstellung/walid-raad-like-a-rubber-rung-on-a-ladder-7447959848744962397.html
END:VEVENT
BEGIN:VEVENT
UID:20260422T112645Z-7447959848946288991@eventfrog.de
DTSTAMP:20260422T112645Z
DTSTART:20260523T100000Z
DTEND:20260523T160000Z
SUMMARY:Walid Raad: Like a rubber rung on a ladder
DESCRIPTION:Die Galerie Thomas Schulte zeigt im Corner Space sowie im danebenliegenden Raum mit Schaufenstern zur Straße Like a rubber rung on a ladder, eine Einzelausstellung von Walid Raad.\n\nhttps://eventfrog.de/de/p/kunst-ausstellungen/ausstellung/walid-raad-like-a-rubber-rung-on-a-ladder-7447959848946288991.html
LOCATION:Galerie Thomas Schulte
GEO:52.510226;13.392153
URL:https://eventfrog.de/de/p/kunst-ausstellungen/ausstellung/walid-raad-like-a-rubber-rung-on-a-ladder-7447959848946288991.html
END:VEVENT
BEGIN:VEVENT
UID:20260422T112645Z-7447959849109866868@eventfrog.de
DTSTAMP:20260422T112645Z
DTSTART:20260526T100000Z
DTEND:20260526T160000Z
SUMMARY:Walid Raad: Like a rubber rung on a ladder
DESCRIPTION:Die Galerie Thomas Schulte zeigt im Corner Space sowie im danebenliegenden Raum mit Schaufenstern zur Straße Like a rubber rung on a ladder, eine Einzelausstellung von Walid Raad.\n\nhttps://eventfrog.de/de/p/kunst-ausstellungen/ausstellung/walid-raad-like-a-rubber-rung-on-a-ladder-7447959849109866868.html
LOCATION:Galerie Thomas Schulte
GEO:52.510226;13.392153
URL:https://eventfrog.de/de/p/kunst-ausstellungen/ausstellung/walid-raad-like-a-rubber-rung-on-a-ladder-7447959849109866868.html
END:VEVENT
BEGIN:VEVENT
UID:20260422T112645Z-7447959849256667521@eventfrog.de
DTSTAMP:20260422T112645Z
DTSTART:20260527T100000Z
DTEND:20260527T160000Z
SUMMARY:Walid Raad: Like a rubber rung on a ladder
DESCRIPTION:Die Galerie Thomas Schulte zeigt im Corner Space sowie im danebenliegenden Raum mit Schaufenstern zur Straße Like a rubber rung on a ladder, eine Einzelausstellung von Walid Raad.\n\nhttps://eventfrog.de/de/p/kunst-ausstellungen/ausstellung/walid-raad-like-a-rubber-rung-on-a-ladder-7447959849256667521.html
LOCATION:Galerie Thomas Schulte
GEO:52.510226;13.392153
URL:https://eventfrog.de/de/p/kunst-ausstellungen/ausstellung/walid-raad-like-a-rubber-rung-on-a-ladder-7447959849256667521.html
END:VEVENT
BEGIN:VEVENT
UID:20260422T112645Z-7447959849441216899@eventfrog.de
DTSTAMP:20260422T112645Z
DTSTART:20260528T100000Z
DTEND:20260528T160000Z
SUMMARY:Walid Raad: Like a rubber rung on a ladder
DESCRIPTION:Die Galerie Thomas Schulte zeigt im Corner Space sowie im danebenliegenden Raum mit Schaufenstern zur Straße Like a rubber rung on a ladder, eine Einzelausstellung von Walid Raad.\n\nhttps://eventfrog.de/de/p/kunst-ausstellungen/ausstellung/walid-raad-like-a-rubber-rung-on-a-ladder-7447959849441216899.html
LOCATION:Galerie Thomas Schulte
GEO:52.510226;13.392153
URL:https://eventfrog.de/de/p/kunst-ausstellungen/ausstellung/walid-raad-like-a-rubber-rung-on-a-ladder-7447959849441216899.html
END:VEVENT
BEGIN:VEVENT
UID:20260422T112645Z-7447959849621571973@eventfrog.de
DTSTAMP:20260422T112645Z
DTSTART:20260529T100000Z
DTEND:20260529T160000Z
SUMMARY:Walid Raad: Like a rubber rung on a ladder
DESCRIPTION:Die Galerie Thomas Schulte zeigt im Corner Space sowie im danebenliegenden Raum mit Schaufenstern zur Straße Like a rubber rung on a ladder, eine Einzelausstellung von Walid Raad.\n\nhttps://eventfrog.de/de/p/kunst-ausstellungen/ausstellung/walid-raad-like-a-rubber-rung-on-a-ladder-7447959849621571973.html
LOCATION:Galerie Thomas Schulte
GEO:52.510226;13.392153
URL:https://eventfrog.de/de/p/kunst-ausstellungen/ausstellung/walid-raad-like-a-rubber-rung-on-a-ladder-7447959849621571973.html
END:VEVENT
BEGIN:VEVENT
UID:20260422T112645Z-7447959849772566924@eventfrog.de
DTSTAMP:20260422T112645Z
DTSTART:20260530T100000Z
DTEND:20260530T160000Z
SUMMARY:Walid Raad: Like a rubber rung on a ladder
DESCRIPTION:Die Galerie Thomas Schulte zeigt im Corner Space sowie im danebenliegenden Raum mit Schaufenstern zur Straße Like a rubber rung on a ladder, eine Einzelausstellung von Walid Raad.\n\nhttps://eventfrog.de/de/p/kunst-ausstellungen/ausstellung/walid-raad-like-a-rubber-rung-on-a-ladder-7447959849772566924.html
LOCATION:Galerie Thomas Schulte
GEO:52.510226;13.392153
URL:https://eventfrog.de/de/p/kunst-ausstellungen/ausstellung/walid-raad-like-a-rubber-rung-on-a-ladder-7447959849772566924.html
END:VEVENT
BEGIN:VEVENT
UID:20260422T112645Z-7447959849923561889@eventfrog.de
DTSTAMP:20260422T112645Z
DTSTART:20260602T100000Z
DTEND:20260602T160000Z
SUMMARY:Walid Raad: Like a rubber rung on a ladder
DESCRIPTION:Die Galerie Thomas Schulte zeigt im Corner Space sowie im danebenliegenden Raum mit Schaufenstern zur Straße Like a rubber rung on a ladder, eine Einzelausstellung von Walid Raad.\n\nhttps://eventfrog.de/de/p/kunst-ausstellungen/ausstellung/walid-raad-like-a-rubber-rung-on-a-ladder-7447959849923561889.html
LOCATION:Galerie Thomas Schulte
GEO:52.510226;13.392153
URL:https://eventfrog.de/de/p/kunst-ausstellungen/ausstellung/walid-raad-like-a-rubber-rung-on-a-ladder-7447959849923561889.html
END:VEVENT
BEGIN:VEVENT
UID:20260422T112645Z-7447959850552707539@eventfrog.de
DTSTAMP:20260422T112645Z
DTSTART:20260603T100000Z
DTEND:20260603T160000Z
SUMMARY:Walid Raad: Like a rubber rung on a ladder
DESCRIPTION:Die Galerie Thomas Schulte zeigt im Corner Space sowie im danebenliegenden Raum mit Schaufenstern zur Straße Like a rubber rung on a ladder, eine Einzelausstellung von Walid Raad.\n\nhttps://eventfrog.de/de/p/kunst-ausstellungen/ausstellung/walid-raad-like-a-rubber-rung-on-a-ladder-7447959850552707539.html
LOCATION:Galerie Thomas Schulte
GEO:52.510226;13.392153
URL:https://eventfrog.de/de/p/kunst-ausstellungen/ausstellung/walid-raad-like-a-rubber-rung-on-a-ladder-7447959850552707539.html
END:VEVENT
BEGIN:VEVENT
UID:20260422T112645Z-7447959850741451227@eventfrog.de
DTSTAMP:20260422T112645Z
DTSTART:20260604T100000Z
DTEND:20260604T160000Z
SUMMARY:Walid Raad: Like a rubber rung on a ladder
DESCRIPTION:Die Galerie Thomas Schulte zeigt im Corner Space sowie im danebenliegenden Raum mit Schaufenstern zur Straße Like a rubber rung on a ladder, eine Einzelausstellung von Walid Raad.\n\nhttps://eventfrog.de/de/p/kunst-ausstellungen/ausstellung/walid-raad-like-a-rubber-rung-on-a-ladder-7447959850741451227.html
LOCATION:Galerie Thomas Schulte
GEO:52.510226;13.392153
URL:https://eventfrog.de/de/p/kunst-ausstellungen/ausstellung/walid-raad-like-a-rubber-rung-on-a-ladder-7447959850741451227.html
END:VEVENT
BEGIN:VEVENT
UID:20260422T112645Z-7447959850905029104@eventfrog.de
DTSTAMP:20260422T112645Z
DTSTART:20260605T100000Z
DTEND:20260605T160000Z
SUMMARY:Walid Raad: Like a rubber rung on a ladder
DESCRIPTION:Die Galerie Thomas Schulte zeigt im Corner Space sowie im danebenliegenden Raum mit Schaufenstern zur Straße Like a rubber rung on a ladder, eine Einzelausstellung von Walid Raad.\n\nhttps://eventfrog.de/de/p/kunst-ausstellungen/ausstellung/walid-raad-like-a-rubber-rung-on-a-ladder-7447959850905029104.html
LOCATION:Galerie Thomas Schulte
GEO:52.510226;13.392153
URL:https://eventfrog.de/de/p/kunst-ausstellungen/ausstellung/walid-raad-like-a-rubber-rung-on-a-ladder-7447959850905029104.html
END:VEVENT
BEGIN:VEVENT
UID:20260422T112645Z-7447959851051829747@eventfrog.de
DTSTAMP:20260422T112645Z
DTSTART:20260606T100000Z
DTEND:20260606T160000Z
SUMMARY:Walid Raad: Like a rubber rung on a ladder
DESCRIPTION:Die Galerie Thomas Schulte zeigt im Corner Space sowie im danebenliegenden Raum mit Schaufenstern zur Straße Like a rubber rung on a ladder, eine Einzelausstellung von Walid Raad.\n\nhttps://eventfrog.de/de/p/kunst-ausstellungen/ausstellung/walid-raad-like-a-rubber-rung-on-a-ladder-7447959851051829747.html
LOCATION:Galerie Thomas Schulte
GEO:52.510226;13.392153
URL:https://eventfrog.de/de/p/kunst-ausstellungen/ausstellung/walid-raad-like-a-rubber-rung-on-a-ladder-7447959851051829747.html
END:VEVENT
END:VCALENDAR