BEGIN:VCALENDAR
VERSION:2.0
PRODID:EVENTFROG//EVENTGROUP//ICAL
BEGIN:VEVENT
UID:20260422T112648Z-7447961030947295375@eventfrog.de
DTSTAMP:20260422T112648Z
DTSTART:20260501T100000Z
DTEND:20260501T160000Z
SUMMARY:Jonathan Lasker: Double Play
DESCRIPTION:Mit Double Play präsentiert die Galerie Thomas Schulte die sechste Einzelausstellung von Jonathan Lasker.\n\nhttps://eventfrog.de/de/p/kunst-ausstellungen/ausstellung/jonathan-lasker-double-play-7447961030947295375.html
LOCATION:Galerie Thomas Schulte
GEO:52.510226;13.392153
URL:https://eventfrog.de/de/p/kunst-ausstellungen/ausstellung/jonathan-lasker-double-play-7447961030947295375.html
END:VEVENT
BEGIN:VEVENT
UID:20260422T112648Z-7447961095992568095@eventfrog.de
DTSTAMP:20260422T112648Z
DTSTART:20260501T100000Z
DTEND:20260501T160000Z
SUMMARY:Jonathan Lasker: Double Play
DESCRIPTION:Mit Double Play präsentiert die Galerie Thomas Schulte die sechste Einzelausstellung von Jonathan Lasker.\n\nhttps://eventfrog.de/de/p/kunst-ausstellungen/ausstellung/jonathan-lasker-double-play-7447961095992568095.html
LOCATION:Galerie Thomas Schulte
GEO:52.510226;13.392153
URL:https://eventfrog.de/de/p/kunst-ausstellungen/ausstellung/jonathan-lasker-double-play-7447961095992568095.html
END:VEVENT
BEGIN:VEVENT
UID:20260422T112648Z-7447961096147757992@eventfrog.de
DTSTAMP:20260422T112648Z
DTSTART:20260502T100000Z
DTEND:20260502T160000Z
SUMMARY:Jonathan Lasker: Double Play
DESCRIPTION:Mit Double Play präsentiert die Galerie Thomas Schulte die sechste Einzelausstellung von Jonathan Lasker.\n\nhttps://eventfrog.de/de/p/kunst-ausstellungen/ausstellung/jonathan-lasker-double-play-7447961096147757992.html
LOCATION:Galerie Thomas Schulte
GEO:52.510226;13.392153
URL:https://eventfrog.de/de/p/kunst-ausstellungen/ausstellung/jonathan-lasker-double-play-7447961096147757992.html
END:VEVENT
BEGIN:VEVENT
UID:20260422T112648Z-7447961096277781423@eventfrog.de
DTSTAMP:20260422T112648Z
DTSTART:20260505T100000Z
DTEND:20260505T160000Z
SUMMARY:Jonathan Lasker: Double Play
DESCRIPTION:Mit Double Play präsentiert die Galerie Thomas Schulte die sechste Einzelausstellung von Jonathan Lasker.\n\nhttps://eventfrog.de/de/p/kunst-ausstellungen/ausstellung/jonathan-lasker-double-play-7447961096277781423.html
LOCATION:Galerie Thomas Schulte
GEO:52.510226;13.392153
URL:https://eventfrog.de/de/p/kunst-ausstellungen/ausstellung/jonathan-lasker-double-play-7447961096277781423.html
END:VEVENT
BEGIN:VEVENT
UID:20260422T112648Z-7447961096399416439@eventfrog.de
DTSTAMP:20260422T112648Z
DTSTART:20260506T100000Z
DTEND:20260506T160000Z
SUMMARY:Jonathan Lasker: Double Play
DESCRIPTION:Mit Double Play präsentiert die Galerie Thomas Schulte die sechste Einzelausstellung von Jonathan Lasker.\n\nhttps://eventfrog.de/de/p/kunst-ausstellungen/ausstellung/jonathan-lasker-double-play-7447961096399416439.html
LOCATION:Galerie Thomas Schulte
GEO:52.510226;13.392153
URL:https://eventfrog.de/de/p/kunst-ausstellungen/ausstellung/jonathan-lasker-double-play-7447961096399416439.html
END:VEVENT
BEGIN:VEVENT
UID:20260422T112648Z-7447961096542022927@eventfrog.de
DTSTAMP:20260422T112648Z
DTSTART:20260507T100000Z
DTEND:20260507T160000Z
SUMMARY:Jonathan Lasker: Double Play
DESCRIPTION:Mit Double Play präsentiert die Galerie Thomas Schulte die sechste Einzelausstellung von Jonathan Lasker.\n\nhttps://eventfrog.de/de/p/kunst-ausstellungen/ausstellung/jonathan-lasker-double-play-7447961096542022927.html
LOCATION:Galerie Thomas Schulte
GEO:52.510226;13.392153
URL:https://eventfrog.de/de/p/kunst-ausstellungen/ausstellung/jonathan-lasker-double-play-7447961096542022927.html
END:VEVENT
BEGIN:VEVENT
UID:20260422T112648Z-7447961096676240657@eventfrog.de
DTSTAMP:20260422T112648Z
DTSTART:20260508T100000Z
DTEND:20260508T160000Z
SUMMARY:Jonathan Lasker: Double Play
DESCRIPTION:Mit Double Play präsentiert die Galerie Thomas Schulte die sechste Einzelausstellung von Jonathan Lasker.\n\nhttps://eventfrog.de/de/p/kunst-ausstellungen/ausstellung/jonathan-lasker-double-play-7447961096676240657.html
LOCATION:Galerie Thomas Schulte
GEO:52.510226;13.392153
URL:https://eventfrog.de/de/p/kunst-ausstellungen/ausstellung/jonathan-lasker-double-play-7447961096676240657.html
END:VEVENT
BEGIN:VEVENT
UID:20260422T112648Z-7447961096814652691@eventfrog.de
DTSTAMP:20260422T112648Z
DTSTART:20260509T100000Z
DTEND:20260509T160000Z
SUMMARY:Jonathan Lasker: Double Play
DESCRIPTION:Mit Double Play präsentiert die Galerie Thomas Schulte die sechste Einzelausstellung von Jonathan Lasker.\n\nhttps://eventfrog.de/de/p/kunst-ausstellungen/ausstellung/jonathan-lasker-double-play-7447961096814652691.html
LOCATION:Galerie Thomas Schulte
GEO:52.510226;13.392153
URL:https://eventfrog.de/de/p/kunst-ausstellungen/ausstellung/jonathan-lasker-double-play-7447961096814652691.html
END:VEVENT
BEGIN:VEVENT
UID:20260422T112648Z-7447961096969842034@eventfrog.de
DTSTAMP:20260422T112648Z
DTSTART:20260512T100000Z
DTEND:20260512T160000Z
SUMMARY:Jonathan Lasker: Double Play
DESCRIPTION:Mit Double Play präsentiert die Galerie Thomas Schulte die sechste Einzelausstellung von Jonathan Lasker.\n\nhttps://eventfrog.de/de/p/kunst-ausstellungen/ausstellung/jonathan-lasker-double-play-7447961096969842034.html
LOCATION:Galerie Thomas Schulte
GEO:52.510226;13.392153
URL:https://eventfrog.de/de/p/kunst-ausstellungen/ausstellung/jonathan-lasker-double-play-7447961096969842034.html
END:VEVENT
BEGIN:VEVENT
UID:20260422T112648Z-7447961097150197122@eventfrog.de
DTSTAMP:20260422T112648Z
DTSTART:20260513T100000Z
DTEND:20260513T160000Z
SUMMARY:Jonathan Lasker: Double Play
DESCRIPTION:Mit Double Play präsentiert die Galerie Thomas Schulte die sechste Einzelausstellung von Jonathan Lasker.\n\nhttps://eventfrog.de/de/p/kunst-ausstellungen/ausstellung/jonathan-lasker-double-play-7447961097150197122.html
LOCATION:Galerie Thomas Schulte
GEO:52.510226;13.392153
URL:https://eventfrog.de/de/p/kunst-ausstellungen/ausstellung/jonathan-lasker-double-play-7447961097150197122.html
END:VEVENT
BEGIN:VEVENT
UID:20260422T112648Z-7447961097317969321@eventfrog.de
DTSTAMP:20260422T112648Z
DTSTART:20260514T100000Z
DTEND:20260514T160000Z
SUMMARY:Jonathan Lasker: Double Play
DESCRIPTION:Mit Double Play präsentiert die Galerie Thomas Schulte die sechste Einzelausstellung von Jonathan Lasker.\n\nhttps://eventfrog.de/de/p/kunst-ausstellungen/ausstellung/jonathan-lasker-double-play-7447961097317969321.html
LOCATION:Galerie Thomas Schulte
GEO:52.510226;13.392153
URL:https://eventfrog.de/de/p/kunst-ausstellungen/ausstellung/jonathan-lasker-double-play-7447961097317969321.html
END:VEVENT
BEGIN:VEVENT
UID:20260422T112648Z-7447961097498324460@eventfrog.de
DTSTAMP:20260422T112648Z
DTSTART:20260515T100000Z
DTEND:20260515T160000Z
SUMMARY:Jonathan Lasker: Double Play
DESCRIPTION:Mit Double Play präsentiert die Galerie Thomas Schulte die sechste Einzelausstellung von Jonathan Lasker.\n\nhttps://eventfrog.de/de/p/kunst-ausstellungen/ausstellung/jonathan-lasker-double-play-7447961097498324460.html
LOCATION:Galerie Thomas Schulte
GEO:52.510226;13.392153
URL:https://eventfrog.de/de/p/kunst-ausstellungen/ausstellung/jonathan-lasker-double-play-7447961097498324460.html
END:VEVENT
BEGIN:VEVENT
UID:20260422T112648Z-7447961097691262447@eventfrog.de
DTSTAMP:20260422T112648Z
DTSTART:20260516T100000Z
DTEND:20260516T160000Z
SUMMARY:Jonathan Lasker: Double Play
DESCRIPTION:Mit Double Play präsentiert die Galerie Thomas Schulte die sechste Einzelausstellung von Jonathan Lasker.\n\nhttps://eventfrog.de/de/p/kunst-ausstellungen/ausstellung/jonathan-lasker-double-play-7447961097691262447.html
LOCATION:Galerie Thomas Schulte
GEO:52.510226;13.392153
URL:https://eventfrog.de/de/p/kunst-ausstellungen/ausstellung/jonathan-lasker-double-play-7447961097691262447.html
END:VEVENT
BEGIN:VEVENT
UID:20260422T112648Z-7447961097884200445@eventfrog.de
DTSTAMP:20260422T112648Z
DTSTART:20260519T100000Z
DTEND:20260519T160000Z
SUMMARY:Jonathan Lasker: Double Play
DESCRIPTION:Mit Double Play präsentiert die Galerie Thomas Schulte die sechste Einzelausstellung von Jonathan Lasker.\n\nhttps://eventfrog.de/de/p/kunst-ausstellungen/ausstellung/jonathan-lasker-double-play-7447961097884200445.html
LOCATION:Galerie Thomas Schulte
GEO:52.510226;13.392153
URL:https://eventfrog.de/de/p/kunst-ausstellungen/ausstellung/jonathan-lasker-double-play-7447961097884200445.html
END:VEVENT
BEGIN:VEVENT
UID:20260422T112648Z-7447961098093915775@eventfrog.de
DTSTAMP:20260422T112648Z
DTSTART:20260520T100000Z
DTEND:20260520T160000Z
SUMMARY:Jonathan Lasker: Double Play
DESCRIPTION:Mit Double Play präsentiert die Galerie Thomas Schulte die sechste Einzelausstellung von Jonathan Lasker.\n\nhttps://eventfrog.de/de/p/kunst-ausstellungen/ausstellung/jonathan-lasker-double-play-7447961098093915775.html
LOCATION:Galerie Thomas Schulte
GEO:52.510226;13.392153
URL:https://eventfrog.de/de/p/kunst-ausstellungen/ausstellung/jonathan-lasker-double-play-7447961098093915775.html
END:VEVENT
BEGIN:VEVENT
UID:20260422T112648Z-7447961098265882241@eventfrog.de
DTSTAMP:20260422T112648Z
DTSTART:20260521T100000Z
DTEND:20260521T160000Z
SUMMARY:Jonathan Lasker: Double Play
DESCRIPTION:Mit Double Play präsentiert die Galerie Thomas Schulte die sechste Einzelausstellung von Jonathan Lasker.\n\nhttps://eventfrog.de/de/p/kunst-ausstellungen/ausstellung/jonathan-lasker-double-play-7447961098265882241.html
LOCATION:Galerie Thomas Schulte
GEO:52.510226;13.392153
URL:https://eventfrog.de/de/p/kunst-ausstellungen/ausstellung/jonathan-lasker-double-play-7447961098265882241.html
END:VEVENT
BEGIN:VEVENT
UID:20260422T112648Z-7447961098437848707@eventfrog.de
DTSTAMP:20260422T112648Z
DTSTART:20260522T100000Z
DTEND:20260522T160000Z
SUMMARY:Jonathan Lasker: Double Play
DESCRIPTION:Mit Double Play präsentiert die Galerie Thomas Schulte die sechste Einzelausstellung von Jonathan Lasker.\n\nhttps://eventfrog.de/de/p/kunst-ausstellungen/ausstellung/jonathan-lasker-double-play-7447961098437848707.html
LOCATION:Galerie Thomas Schulte
GEO:52.510226;13.392153
URL:https://eventfrog.de/de/p/kunst-ausstellungen/ausstellung/jonathan-lasker-double-play-7447961098437848707.html
END:VEVENT
BEGIN:VEVENT
UID:20260422T112648Z-7447961098614009477@eventfrog.de
DTSTAMP:20260422T112648Z
DTSTART:20260523T100000Z
DTEND:20260523T160000Z
SUMMARY:Jonathan Lasker: Double Play
DESCRIPTION:Mit Double Play präsentiert die Galerie Thomas Schulte die sechste Einzelausstellung von Jonathan Lasker.\n\nhttps://eventfrog.de/de/p/kunst-ausstellungen/ausstellung/jonathan-lasker-double-play-7447961098614009477.html
LOCATION:Galerie Thomas Schulte
GEO:52.510226;13.392153
URL:https://eventfrog.de/de/p/kunst-ausstellungen/ausstellung/jonathan-lasker-double-play-7447961098614009477.html
END:VEVENT
BEGIN:VEVENT
UID:20260422T112648Z-7447961098815336072@eventfrog.de
DTSTAMP:20260422T112648Z
DTSTART:20260526T100000Z
DTEND:20260526T160000Z
SUMMARY:Jonathan Lasker: Double Play
DESCRIPTION:Mit Double Play präsentiert die Galerie Thomas Schulte die sechste Einzelausstellung von Jonathan Lasker.\n\nhttps://eventfrog.de/de/p/kunst-ausstellungen/ausstellung/jonathan-lasker-double-play-7447961098815336072.html
LOCATION:Galerie Thomas Schulte
GEO:52.510226;13.392153
URL:https://eventfrog.de/de/p/kunst-ausstellungen/ausstellung/jonathan-lasker-double-play-7447961098815336072.html
END:VEVENT
BEGIN:VEVENT
UID:20260422T112648Z-7447961099029245730@eventfrog.de
DTSTAMP:20260422T112648Z
DTSTART:20260527T100000Z
DTEND:20260527T160000Z
SUMMARY:Jonathan Lasker: Double Play
DESCRIPTION:Mit Double Play präsentiert die Galerie Thomas Schulte die sechste Einzelausstellung von Jonathan Lasker.\n\nhttps://eventfrog.de/de/p/kunst-ausstellungen/ausstellung/jonathan-lasker-double-play-7447961099029245730.html
LOCATION:Galerie Thomas Schulte
GEO:52.510226;13.392153
URL:https://eventfrog.de/de/p/kunst-ausstellungen/ausstellung/jonathan-lasker-double-play-7447961099029245730.html
END:VEVENT
BEGIN:VEVENT
UID:20260422T112648Z-7447961099268321060@eventfrog.de
DTSTAMP:20260422T112648Z
DTSTART:20260528T100000Z
DTEND:20260528T160000Z
SUMMARY:Jonathan Lasker: Double Play
DESCRIPTION:Mit Double Play präsentiert die Galerie Thomas Schulte die sechste Einzelausstellung von Jonathan Lasker.\n\nhttps://eventfrog.de/de/p/kunst-ausstellungen/ausstellung/jonathan-lasker-double-play-7447961099268321060.html
LOCATION:Galerie Thomas Schulte
GEO:52.510226;13.392153
URL:https://eventfrog.de/de/p/kunst-ausstellungen/ausstellung/jonathan-lasker-double-play-7447961099268321060.html
END:VEVENT
BEGIN:VEVENT
UID:20260422T112648Z-7447961099494813478@eventfrog.de
DTSTAMP:20260422T112648Z
DTSTART:20260529T100000Z
DTEND:20260529T160000Z
SUMMARY:Jonathan Lasker: Double Play
DESCRIPTION:Mit Double Play präsentiert die Galerie Thomas Schulte die sechste Einzelausstellung von Jonathan Lasker.\n\nhttps://eventfrog.de/de/p/kunst-ausstellungen/ausstellung/jonathan-lasker-double-play-7447961099494813478.html
LOCATION:Galerie Thomas Schulte
GEO:52.510226;13.392153
URL:https://eventfrog.de/de/p/kunst-ausstellungen/ausstellung/jonathan-lasker-double-play-7447961099494813478.html
END:VEVENT
BEGIN:VEVENT
UID:20260422T112648Z-7447961099704528697@eventfrog.de
DTSTAMP:20260422T112648Z
DTSTART:20260530T100000Z
DTEND:20260530T160000Z
SUMMARY:Jonathan Lasker: Double Play
DESCRIPTION:Mit Double Play präsentiert die Galerie Thomas Schulte die sechste Einzelausstellung von Jonathan Lasker.\n\nhttps://eventfrog.de/de/p/kunst-ausstellungen/ausstellung/jonathan-lasker-double-play-7447961099704528697.html
LOCATION:Galerie Thomas Schulte
GEO:52.510226;13.392153
URL:https://eventfrog.de/de/p/kunst-ausstellungen/ausstellung/jonathan-lasker-double-play-7447961099704528697.html
END:VEVENT
BEGIN:VEVENT
UID:20260422T112648Z-7447961099876495173@eventfrog.de
DTSTAMP:20260422T112648Z
DTSTART:20260602T100000Z
DTEND:20260602T160000Z
SUMMARY:Jonathan Lasker: Double Play
DESCRIPTION:Mit Double Play präsentiert die Galerie Thomas Schulte die sechste Einzelausstellung von Jonathan Lasker.\n\nhttps://eventfrog.de/de/p/kunst-ausstellungen/ausstellung/jonathan-lasker-double-play-7447961099876495173.html
LOCATION:Galerie Thomas Schulte
GEO:52.510226;13.392153
URL:https://eventfrog.de/de/p/kunst-ausstellungen/ausstellung/jonathan-lasker-double-play-7447961099876495173.html
END:VEVENT
BEGIN:VEVENT
UID:20260422T112648Z-7447961100086210413@eventfrog.de
DTSTAMP:20260422T112648Z
DTSTART:20260603T100000Z
DTEND:20260603T160000Z
SUMMARY:Jonathan Lasker: Double Play
DESCRIPTION:Mit Double Play präsentiert die Galerie Thomas Schulte die sechste Einzelausstellung von Jonathan Lasker.\n\nhttps://eventfrog.de/de/p/kunst-ausstellungen/ausstellung/jonathan-lasker-double-play-7447961100086210413.html
LOCATION:Galerie Thomas Schulte
GEO:52.510226;13.392153
URL:https://eventfrog.de/de/p/kunst-ausstellungen/ausstellung/jonathan-lasker-double-play-7447961100086210413.html
END:VEVENT
BEGIN:VEVENT
UID:20260422T112648Z-7447961100316897183@eventfrog.de
DTSTAMP:20260422T112648Z
DTSTART:20260604T100000Z
DTEND:20260604T160000Z
SUMMARY:Jonathan Lasker: Double Play
DESCRIPTION:Mit Double Play präsentiert die Galerie Thomas Schulte die sechste Einzelausstellung von Jonathan Lasker.\n\nhttps://eventfrog.de/de/p/kunst-ausstellungen/ausstellung/jonathan-lasker-double-play-7447961100316897183.html
LOCATION:Galerie Thomas Schulte
GEO:52.510226;13.392153
URL:https://eventfrog.de/de/p/kunst-ausstellungen/ausstellung/jonathan-lasker-double-play-7447961100316897183.html
END:VEVENT
BEGIN:VEVENT
UID:20260422T112648Z-7447961100518223801@eventfrog.de
DTSTAMP:20260422T112648Z
DTSTART:20260605T100000Z
DTEND:20260605T160000Z
SUMMARY:Jonathan Lasker: Double Play
DESCRIPTION:Mit Double Play präsentiert die Galerie Thomas Schulte die sechste Einzelausstellung von Jonathan Lasker.\n\nhttps://eventfrog.de/de/p/kunst-ausstellungen/ausstellung/jonathan-lasker-double-play-7447961100518223801.html
LOCATION:Galerie Thomas Schulte
GEO:52.510226;13.392153
URL:https://eventfrog.de/de/p/kunst-ausstellungen/ausstellung/jonathan-lasker-double-play-7447961100518223801.html
END:VEVENT
BEGIN:VEVENT
UID:20260422T112648Z-7447961100715356092@eventfrog.de
DTSTAMP:20260422T112648Z
DTSTART:20260606T100000Z
DTEND:20260606T160000Z
SUMMARY:Jonathan Lasker: Double Play
DESCRIPTION:Mit Double Play präsentiert die Galerie Thomas Schulte die sechste Einzelausstellung von Jonathan Lasker.\n\nhttps://eventfrog.de/de/p/kunst-ausstellungen/ausstellung/jonathan-lasker-double-play-7447961100715356092.html
LOCATION:Galerie Thomas Schulte
GEO:52.510226;13.392153
URL:https://eventfrog.de/de/p/kunst-ausstellungen/ausstellung/jonathan-lasker-double-play-7447961100715356092.html
END:VEVENT
END:VCALENDAR