BEGIN:VCALENDAR
VERSION:2.0
PRODID:EVENTFROG//EVENTGROUP//ICAL
BEGIN:VEVENT
UID:20260422T115240Z-7448011339795068525@eventfrog.de
DTSTAMP:20260422T115240Z
DTSTART:20260504T120000Z
DTEND:20260504T180000Z
SUMMARY:Pokémon Sammelkartenspiel - Liga Spieltag - Mai
DESCRIPTION:freies Pokemon Liga spielen\n\nhttps://eventfrog.de/de/p/freizeit-ausfluege/gruppen-spiele/pokemon-sammelkartenspiel-liga-spieltag-mai-7448011339795068525.html
LOCATION:FUNtainment Berlin
GEO:52.514541;13.469291
URL:https://eventfrog.de/de/p/freizeit-ausfluege/gruppen-spiele/pokemon-sammelkartenspiel-liga-spieltag-mai-7448011339795068525.html
END:VEVENT
BEGIN:VEVENT
UID:20260422T115240Z-7449444661985336887@eventfrog.de
DTSTAMP:20260422T115240Z
DTSTART:20260511T120000Z
DTEND:20260511T180000Z
SUMMARY:Pokémon Sammelkartenspiel - Liga Spieltag - Mai
DESCRIPTION:freies Pokemon Liga spielen\n\nhttps://eventfrog.de/de/p/freizeit-ausfluege/gruppen-spiele/pokemon-sammelkartenspiel-liga-spieltag-mai-7449444661985336887.html
LOCATION:FUNtainment Berlin
GEO:52.514541;13.469291
URL:https://eventfrog.de/de/p/freizeit-ausfluege/gruppen-spiele/pokemon-sammelkartenspiel-liga-spieltag-mai-7449444661985336887.html
END:VEVENT
BEGIN:VEVENT
UID:20260422T115240Z-7449460220634338151@eventfrog.de
DTSTAMP:20260422T115240Z
DTSTART:20260518T120000Z
DTEND:20260518T180000Z
SUMMARY:Pokémon Sammelkartenspiel - Liga Spieltag - Mai
DESCRIPTION:freies Pokemon Liga spielen\n\nhttps://eventfrog.de/de/p/freizeit-ausfluege/gruppen-spiele/pokemon-sammelkartenspiel-liga-spieltag-mai-7449460220634338151.html
LOCATION:FUNtainment Berlin
GEO:52.514541;13.469291
URL:https://eventfrog.de/de/p/freizeit-ausfluege/gruppen-spiele/pokemon-sammelkartenspiel-liga-spieltag-mai-7449460220634338151.html
END:VEVENT
END:VCALENDAR