BEGIN:VCALENDAR
VERSION:2.0
PRODID:EVENTFROG//EVENTGROUP//ICAL
BEGIN:VEVENT
UID:20260422T114242Z-7449494041731852479@eventfrog.de
DTSTAMP:20260422T114242Z
DTSTART:20260505T150000Z
DTEND:20260505T180000Z
SUMMARY:Yu-Gi-Oh! OTS Turnier -  Mai
DESCRIPTION:Turnier mit Advanced - Constructed Format, 3 Runden, Anmeldung 16:45 Uhr, OTS-Packs als Preise. Jeder Spieler erhält mindestens ein Pack.\n\nhttps://eventfrog.de/de/p/freizeit-ausfluege/gruppen-spiele/yu-gi-oh-ots-turnier-mai-7449494041731852479.html
LOCATION:FUNtainment Berlin
GEO:52.514541;13.469291
URL:https://eventfrog.de/de/p/freizeit-ausfluege/gruppen-spiele/yu-gi-oh-ots-turnier-mai-7449494041731852479.html
END:VEVENT
BEGIN:VEVENT
UID:20260422T114242Z-7449493539304543404@eventfrog.de
DTSTAMP:20260422T114242Z
DTSTART:20260512T150000Z
DTEND:20260512T180000Z
SUMMARY:Yu-Gi-Oh! OTS Turnier -  Mai
DESCRIPTION:Turnier mit Advanced - Constructed Format, 3 Runden, Anmeldung 16:45 Uhr, OTS-Packs als Preise. Jeder Spieler erhält mindestens ein Pack.\n\nhttps://eventfrog.de/de/p/freizeit-ausfluege/gruppen-spiele/yu-gi-oh-ots-turnier-mai-7449493539304543404.html
LOCATION:FUNtainment Berlin
GEO:52.514541;13.469291
URL:https://eventfrog.de/de/p/freizeit-ausfluege/gruppen-spiele/yu-gi-oh-ots-turnier-mai-7449493539304543404.html
END:VEVENT
BEGIN:VEVENT
UID:20260422T114242Z-7449493149251030698@eventfrog.de
DTSTAMP:20260422T114242Z
DTSTART:20260519T150000Z
DTEND:20260519T180000Z
SUMMARY:Yu-Gi-Oh! OTS Turnier -  Mai
DESCRIPTION:Turnier mit Advanced - Constructed Format, 3 Runden, Anmeldung 16:45 Uhr, OTS-Packs als Preise. Jeder Spieler erhält mindestens ein Pack.\n\nhttps://eventfrog.de/de/p/freizeit-ausfluege/gruppen-spiele/yu-gi-oh-ots-turnier-mai-7449493149251030698.html
LOCATION:FUNtainment Berlin
GEO:52.514541;13.469291
URL:https://eventfrog.de/de/p/freizeit-ausfluege/gruppen-spiele/yu-gi-oh-ots-turnier-mai-7449493149251030698.html
END:VEVENT
BEGIN:VEVENT
UID:20260422T114242Z-7449500894310198668@eventfrog.de
DTSTAMP:20260422T114242Z
DTSTART:20260523T100000Z
DTEND:20260523T160000Z
SUMMARY:Yu-Gi-Oh! OTS Turnier -  Mai
DESCRIPTION:Turnier mit Advanced - Constructed Format, 3 Runden, Anmeldung 16:45 Uhr, OTS-Packs als Preise. Jeder Spieler erhält mindestens ein Pack.\n\nhttps://eventfrog.de/de/p/freizeit-ausfluege/gruppen-spiele/yu-gi-oh-ots-turnier-mai-7449500894310198668.html
LOCATION:FUNtainment Berlin
GEO:52.514541;13.469291
URL:https://eventfrog.de/de/p/freizeit-ausfluege/gruppen-spiele/yu-gi-oh-ots-turnier-mai-7449500894310198668.html
END:VEVENT
BEGIN:VEVENT
UID:20260422T114242Z-7449498095451150003@eventfrog.de
DTSTAMP:20260422T114242Z
DTSTART:20260526T150000Z
DTEND:20260526T180000Z
SUMMARY:Yu-Gi-Oh! OTS Turnier -  Mai
DESCRIPTION:Turnier mit Advanced - Constructed Format, 3 Runden, Anmeldung 16:45 Uhr, OTS-Packs als Preise. Jeder Spieler erhält mindestens ein Pack.\n\nhttps://eventfrog.de/de/p/freizeit-ausfluege/gruppen-spiele/yu-gi-oh-ots-turnier-mai-7449498095451150003.html
LOCATION:FUNtainment Berlin
GEO:52.514541;13.469291
URL:https://eventfrog.de/de/p/freizeit-ausfluege/gruppen-spiele/yu-gi-oh-ots-turnier-mai-7449498095451150003.html
END:VEVENT
BEGIN:VEVENT
UID:20260422T114242Z-7449501131938512532@eventfrog.de
DTSTAMP:20260422T114242Z
DTSTART:20260530T100000Z
DTEND:20260530T160000Z
SUMMARY:Yu-Gi-Oh! OTS Turnier -  Mai
DESCRIPTION:Turnier mit Advanced - Constructed Format, 3 Runden, Anmeldung 16:45 Uhr, OTS-Packs als Preise. Jeder Spieler erhält mindestens ein Pack.\n\nhttps://eventfrog.de/de/p/freizeit-ausfluege/gruppen-spiele/yu-gi-oh-ots-turnier-mai-7449501131938512532.html
LOCATION:FUNtainment Berlin
GEO:52.514541;13.469291
URL:https://eventfrog.de/de/p/freizeit-ausfluege/gruppen-spiele/yu-gi-oh-ots-turnier-mai-7449501131938512532.html
END:VEVENT
END:VCALENDAR