BEGIN:VCALENDAR
VERSION:2.0
PRODID:EVENTFROG//EVENTGROUP//ICAL
BEGIN:VEVENT
UID:20260422T114243Z-7449501350709228939@eventfrog.de
DTSTAMP:20260422T114243Z
DTSTART:20260506T120000Z
DTEND:20260506T180000Z
SUMMARY:Brettspieltag im FUNtainment! - Mai
DESCRIPTION:Jeden Mittwoch von 14 bis 20 Uhr lädt das FUNtainment zum kostenlosen Brettspieltag mit klassischem und neuem Spielangebot ein.\n\nhttps://eventfrog.de/de/p/freizeit-ausfluege/gruppen-spiele/brettspieltag-im-funtainment-mai-7449501350709228939.html
LOCATION:FUNtainment Berlin
GEO:52.514541;13.469291
URL:https://eventfrog.de/de/p/freizeit-ausfluege/gruppen-spiele/brettspieltag-im-funtainment-mai-7449501350709228939.html
END:VEVENT
BEGIN:VEVENT
UID:20260422T114243Z-7449501849210616292@eventfrog.de
DTSTAMP:20260422T114243Z
DTSTART:20260513T120000Z
DTEND:20260513T180000Z
SUMMARY:Brettspieltag im FUNtainment! - Mai
DESCRIPTION:Jeden Mittwoch von 14 bis 20 Uhr lädt das FUNtainment zum kostenlosen Brettspieltag mit klassischem und neuem Spielangebot ein.\n\nhttps://eventfrog.de/de/p/freizeit-ausfluege/gruppen-spiele/brettspieltag-im-funtainment-mai-7449501849210616292.html
LOCATION:FUNtainment Berlin
GEO:52.514541;13.469291
URL:https://eventfrog.de/de/p/freizeit-ausfluege/gruppen-spiele/brettspieltag-im-funtainment-mai-7449501849210616292.html
END:VEVENT
BEGIN:VEVENT
UID:20260422T114243Z-7449501910443263015@eventfrog.de
DTSTAMP:20260422T114243Z
DTSTART:20260520T120000Z
DTEND:20260520T180000Z
SUMMARY:Brettspieltag im FUNtainment! - Mai
DESCRIPTION:Jeden Mittwoch von 14 bis 20 Uhr lädt das FUNtainment zum kostenlosen Brettspieltag mit klassischem und neuem Spielangebot ein.\n\nhttps://eventfrog.de/de/p/freizeit-ausfluege/gruppen-spiele/brettspieltag-im-funtainment-mai-7449501910443263015.html
LOCATION:FUNtainment Berlin
GEO:52.514541;13.469291
URL:https://eventfrog.de/de/p/freizeit-ausfluege/gruppen-spiele/brettspieltag-im-funtainment-mai-7449501910443263015.html
END:VEVENT
BEGIN:VEVENT
UID:20260422T114243Z-7449501951656498087@eventfrog.de
DTSTAMP:20260422T114243Z
DTSTART:20260527T120000Z
DTEND:20260527T180000Z
SUMMARY:Brettspieltag im FUNtainment! - Mai
DESCRIPTION:Jeden Mittwoch von 14 bis 20 Uhr lädt das FUNtainment zum kostenlosen Brettspieltag mit klassischem und neuem Spielangebot ein.\n\nhttps://eventfrog.de/de/p/freizeit-ausfluege/gruppen-spiele/brettspieltag-im-funtainment-mai-7449501951656498087.html
LOCATION:FUNtainment Berlin
GEO:52.514541;13.469291
URL:https://eventfrog.de/de/p/freizeit-ausfluege/gruppen-spiele/brettspieltag-im-funtainment-mai-7449501951656498087.html
END:VEVENT
END:VCALENDAR