BEGIN:VCALENDAR
VERSION:2.0
PRODID:EVENTFROG//EVENTGROUP//ICAL
BEGIN:VEVENT
UID:20260422T114244Z-7449504626309610870@eventfrog.de
DTSTAMP:20260422T114244Z
DTSTART:20260504T150000Z
DTEND:20260504T180000Z
SUMMARY:Magic Modern Monday - Mai
DESCRIPTION:Modern Constructed Event mit Anmeldung um 16:30 Uhr. Startgeld 7,00 . Preise für Teilnehmer. Drei Runden. Zu spät kommen bedeutet Ausschluss.\n\nhttps://eventfrog.de/de/p/freizeit-ausfluege/gruppen-spiele/magic-modern-monday-mai-7449504626309610870.html
LOCATION:FUNtainment Berlin
GEO:52.514541;13.469291
URL:https://eventfrog.de/de/p/freizeit-ausfluege/gruppen-spiele/magic-modern-monday-mai-7449504626309610870.html
END:VEVENT
BEGIN:VEVENT
UID:20260422T114244Z-7449504940878236965@eventfrog.de
DTSTAMP:20260422T114244Z
DTSTART:20260511T150000Z
DTEND:20260511T180000Z
SUMMARY:Magic Modern Monday - Mai
DESCRIPTION:Modern Constructed Event mit Anmeldung um 16:30 Uhr. Startgeld 7,00 . Preise für Teilnehmer. Drei Runden. Zu spät kommen bedeutet Ausschluss.\n\nhttps://eventfrog.de/de/p/freizeit-ausfluege/gruppen-spiele/magic-modern-monday-mai-7449504940878236965.html
LOCATION:FUNtainment Berlin
GEO:52.514541;13.469291
URL:https://eventfrog.de/de/p/freizeit-ausfluege/gruppen-spiele/magic-modern-monday-mai-7449504940878236965.html
END:VEVENT
BEGIN:VEVENT
UID:20260422T114244Z-7449504999111957620@eventfrog.de
DTSTAMP:20260422T114244Z
DTSTART:20260518T150000Z
DTEND:20260518T180000Z
SUMMARY:Magic Modern Monday - Mai
DESCRIPTION:Modern Constructed Event mit Anmeldung um 16:30 Uhr. Startgeld 7,00 . Preise für Teilnehmer. Drei Runden. Zu spät kommen bedeutet Ausschluss.\n\nhttps://eventfrog.de/de/p/freizeit-ausfluege/gruppen-spiele/magic-modern-monday-mai-7449504999111957620.html
LOCATION:FUNtainment Berlin
GEO:52.514541;13.469291
URL:https://eventfrog.de/de/p/freizeit-ausfluege/gruppen-spiele/magic-modern-monday-mai-7449504999111957620.html
END:VEVENT
END:VCALENDAR