BEGIN:VCALENDAR
VERSION:2.0
PRODID:EVENTFROG//EVENTGROUP//ICAL
BEGIN:VEVENT
UID:20260424T065633Z-7449884094945564620@eventfrog.de
DTSTAMP:20260424T065633Z
DTSTART:20260613T150000Z
DTEND:20260613T170000Z
SUMMARY:L-danse Spectacle 2026
DESCRIPTION:Spectacle de danse \nL-danse présente Resto'Scène\n\nhttps://eventfrog.de/fr/p/divers/l-danse-spectacle-2026-7449884094945564620.html
LOCATION:CO Sarine Ouest
GEO:46.784888;7.076136
URL:https://eventfrog.de/fr/p/divers/l-danse-spectacle-2026-7449884094945564620.html
END:VEVENT
BEGIN:VEVENT
UID:20260424T065633Z-7449885403471992454@eventfrog.de
DTSTAMP:20260424T065633Z
DTSTART:20260613T173000Z
DTEND:20260613T193000Z
SUMMARY:L-danse Spectacle 2026
DESCRIPTION:Spectacle de danse \nL-danse présente Resto'Scène\n\nhttps://eventfrog.de/fr/p/divers/l-danse-spectacle-2026-7449885403471992454.html
LOCATION:CO Sarine Ouest
GEO:46.784888;7.076136
URL:https://eventfrog.de/fr/p/divers/l-danse-spectacle-2026-7449885403471992454.html
END:VEVENT
BEGIN:VEVENT
UID:20260424T065633Z-7449885403618793623@eventfrog.de
DTSTAMP:20260424T065633Z
DTSTART:20260614T120000Z
DTEND:20260614T140000Z
SUMMARY:L-danse Spectacle 2026
DESCRIPTION:Spectacle de danse \nL-danse présente Resto'Scène\n\nhttps://eventfrog.de/fr/p/divers/l-danse-spectacle-2026-7449885403618793623.html
LOCATION:CO Sarine Ouest
GEO:46.784888;7.076136
URL:https://eventfrog.de/fr/p/divers/l-danse-spectacle-2026-7449885403618793623.html
END:VEVENT
BEGIN:VEVENT
UID:20260424T065633Z-7449885403694291198@eventfrog.de
DTSTAMP:20260424T065633Z
DTSTART:20260614T143000Z
DTEND:20260614T163000Z
SUMMARY:L-danse Spectacle 2026
DESCRIPTION:Spectacle de danse \nL-danse présente Resto'Scène\n\nhttps://eventfrog.de/fr/p/divers/l-danse-spectacle-2026-7449885403694291198.html
LOCATION:CO Sarine Ouest
GEO:46.784888;7.076136
URL:https://eventfrog.de/fr/p/divers/l-danse-spectacle-2026-7449885403694291198.html
END:VEVENT
END:VCALENDAR