BEGIN:VCALENDAR
VERSION:2.0
PRODID:EVENTFROG//EVENTGROUP//ICAL
BEGIN:VEVENT
UID:20260424T065633Z-7450080623740366359@eventfrog.de
DTSTAMP:20260424T065633Z
DTSTART:20260427T070000Z
DTEND:20260427T093000Z
SUMMARY:E-Bike Kurs "amusebike" pedalen und geniessen
DESCRIPTION:Kostenlose 2.5-stündige E-Bike-Ausfahrt für Personen ab 60 mit Sicherheitstipps und geselligem Beisammensein.\n\nhttps://eventfrog.de/de/p/freizeit-ausfluege/ausflug/e-bike-kurs-amusebike-pedalen-und-geniessen-7450080623740366359.html
LOCATION:Kulturhalle Sägegasse
GEO:47.055018;7.630519
URL:https://eventfrog.de/de/p/freizeit-ausfluege/ausflug/e-bike-kurs-amusebike-pedalen-und-geniessen-7450080623740366359.html
END:VEVENT
BEGIN:VEVENT
UID:20260424T065633Z-7450080900459584139@eventfrog.de
DTSTAMP:20260424T065633Z
DTSTART:20260602T070000Z
DTEND:20260602T093000Z
SUMMARY:E-Bike Kurs "amusebike" pedalen und geniessen
DESCRIPTION:Kostenlose 2.5-stündige E-Bike-Ausfahrt für Personen ab 60 mit Sicherheitstipps und geselligem Beisammensein.\n\nhttps://eventfrog.de/de/p/freizeit-ausfluege/ausflug/e-bike-kurs-amusebike-pedalen-und-geniessen-7450080900459584139.html
LOCATION:Kulturhalle Sägegasse
GEO:47.055018;7.630519
URL:https://eventfrog.de/de/p/freizeit-ausfluege/ausflug/e-bike-kurs-amusebike-pedalen-und-geniessen-7450080900459584139.html
END:VEVENT
END:VCALENDAR