BEGIN:VCALENDAR
VERSION:2.0
PRODID:EVENTFROG//EVENTGROUP//ICAL
BEGIN:VEVENT
UID:20260424T110124Z-7451031671980219490@eventfrog.de
DTSTAMP:20260424T110124Z
DTSTART:20260617T163000Z
DTEND:20260617T174500Z
SUMMARY:Yoga für Alle
DESCRIPTION:Yoga für Gross + Klein, fliessend + sanft für Alle, Kollekte\n\nhttps://eventfrog.de/de/p/kurse-seminare/yoga-fuer-alle-7451031671980219490.html
LOCATION:tiRumpel
GEO:47.420944;9.356495
URL:https://eventfrog.de/de/p/kurse-seminare/yoga-fuer-alle-7451031671980219490.html
END:VEVENT
BEGIN:VEVENT
UID:20260424T110124Z-7451031672152185972@eventfrog.de
DTSTAMP:20260424T110124Z
DTSTART:20260624T163000Z
DTEND:20260624T174500Z
SUMMARY:Yoga für Alle
DESCRIPTION:Yoga für Gross + Klein, fliessend + sanft für Alle, Kollekte\n\nhttps://eventfrog.de/de/p/kurse-seminare/yoga-fuer-alle-7451031672152185972.html
LOCATION:tiRumpel
GEO:47.420944;9.356495
URL:https://eventfrog.de/de/p/kurse-seminare/yoga-fuer-alle-7451031672152185972.html
END:VEVENT
END:VCALENDAR