BEGIN:VCALENDAR
VERSION:2.0
PRODID:EVENTFROG//EVENTGROUP//ICAL
BEGIN:VEVENT
UID:20260421T180722Z-7451312062850964277@eventfrog.de
DTSTAMP:20260421T180722Z
DTSTART:20260501T083000Z
DTEND:20260501T140000Z
SUMMARY:African Street Games
DESCRIPTION:Afrikanische Spiele und Workshops verbinden Generationen im Humboldt Forum mit Tanz, Rennen und Gemeinschaft.\n\nhttps://eventfrog.de/de/p/kinderveranstaltungen/familienveranstaltungen/african-street-games-7451312062850964277.html
LOCATION:Humboldt Forum
GEO:52.517275;13.401640
URL:https://eventfrog.de/de/p/kinderveranstaltungen/familienveranstaltungen/african-street-games-7451312062850964277.html
END:VEVENT
BEGIN:VEVENT
UID:20260421T180722Z-7451312159621964836@eventfrog.de
DTSTAMP:20260421T180722Z
DTSTART:20260502T083000Z
DTEND:20260502T140000Z
SUMMARY:African Street Games
DESCRIPTION:Afrikanische Spiele und Workshops verbinden Generationen im Humboldt Forum mit Tanz, Rennen und Gemeinschaft.\n\nhttps://eventfrog.de/de/p/kinderveranstaltungen/familienveranstaltungen/african-street-games-7451312159621964836.html
LOCATION:Humboldt Forum
GEO:52.517275;13.401640
URL:https://eventfrog.de/de/p/kinderveranstaltungen/familienveranstaltungen/african-street-games-7451312159621964836.html
END:VEVENT
END:VCALENDAR