BEGIN:VCALENDAR
VERSION:2.0
PRODID:EVENTFROG//EVENTGROUP//ICAL
BEGIN:VEVENT
UID:20260425T152700Z-7451391162034706107@eventfrog.de
DTSTAMP:20260425T152700Z
DTSTART:20260509T120000Z
SUMMARY:Buskers Vaduz
DESCRIPTION:Festival der Strassenkunst.\n\nhttps://eventfrog.de/de/p/theater-buehne/buskers-vaduz-7451391162034706107.html
LOCATION:Schlösslekeller
GEO:47.129016;9.523827
URL:https://eventfrog.de/de/p/theater-buehne/buskers-vaduz-7451391162034706107.html
END:VEVENT
BEGIN:VEVENT
UID:20260425T152700Z-7451391162206672572@eventfrog.de
DTSTAMP:20260425T152700Z
DTSTART:20260510T090000Z
SUMMARY:Buskers Vaduz
DESCRIPTION:Festival der Strassenkunst.\n\nhttps://eventfrog.de/de/p/theater-buehne/buskers-vaduz-7451391162206672572.html
LOCATION:Schlösslekeller
GEO:47.129016;9.523827
URL:https://eventfrog.de/de/p/theater-buehne/buskers-vaduz-7451391162206672572.html
END:VEVENT
END:VCALENDAR