BEGIN:VCALENDAR
VERSION:2.0
PRODID:EVENTFROG//EVENTGROUP//ICAL
BEGIN:VEVENT
UID:20260424T083800Z-7451392937466837520@eventfrog.de
DTSTAMP:20260424T083800Z
DTSTART:20260326T230000Z
DTEND:20260823T215900Z
SUMMARY:Gottfried Jäger – Poesie des Fotografischen
DESCRIPTION:Gottfried Jäger - Poesie des Fotografischen\n\nhttps://eventfrog.de/de/p/kunst-ausstellungen/gottfried-jaeger-poesie-des-fotografischen-7451392937466837520.html
LOCATION:Turm zur Katz
GEO:47.663252;9.174532
URL:https://eventfrog.de/de/p/kunst-ausstellungen/gottfried-jaeger-poesie-des-fotografischen-7451392937466837520.html
END:VEVENT
BEGIN:VEVENT
UID:20260424T083800Z-7451392937647192593@eventfrog.de
DTSTAMP:20260424T083800Z
DTSTART:20260503T130000Z
SUMMARY:Gottfried Jäger – Poesie des Fotografischen
DESCRIPTION:Gottfried Jäger - Poesie des Fotografischen\n\nhttps://eventfrog.de/de/p/kunst-ausstellungen/gottfried-jaeger-poesie-des-fotografischen-7451392937647192593.html
LOCATION:Turm zur Katz
GEO:47.663252;9.174532
URL:https://eventfrog.de/de/p/kunst-ausstellungen/gottfried-jaeger-poesie-des-fotografischen-7451392937647192593.html
END:VEVENT
BEGIN:VEVENT
UID:20260424T083800Z-7451392937819159059@eventfrog.de
DTSTAMP:20260424T083800Z
DTSTART:20260607T130000Z
SUMMARY:Gottfried Jäger – Poesie des Fotografischen
DESCRIPTION:Gottfried Jäger - Poesie des Fotografischen\n\nhttps://eventfrog.de/de/p/kunst-ausstellungen/gottfried-jaeger-poesie-des-fotografischen-7451392937819159059.html
LOCATION:Turm zur Katz
GEO:47.663252;9.174532
URL:https://eventfrog.de/de/p/kunst-ausstellungen/gottfried-jaeger-poesie-des-fotografischen-7451392937819159059.html
END:VEVENT
BEGIN:VEVENT
UID:20260424T083800Z-7451392937999514132@eventfrog.de
DTSTAMP:20260424T083800Z
DTSTART:20260705T130000Z
SUMMARY:Gottfried Jäger – Poesie des Fotografischen
DESCRIPTION:Gottfried Jäger - Poesie des Fotografischen\n\nhttps://eventfrog.de/de/p/kunst-ausstellungen/gottfried-jaeger-poesie-des-fotografischen-7451392937999514132.html
LOCATION:Turm zur Katz
GEO:47.663252;9.174532
URL:https://eventfrog.de/de/p/kunst-ausstellungen/gottfried-jaeger-poesie-des-fotografischen-7451392937999514132.html
END:VEVENT
END:VCALENDAR