BEGIN:VCALENDAR
VERSION:2.0
PRODID:EVENTFROG//EVENTGROUP//ICAL
BEGIN:VEVENT
UID:20260420T131607Z-7429657430001241083@eventfrog.de
DTSTAMP:20260420T131607Z
DTSTART:20260423T230000Z
DTEND:20260529T134346Z
SUMMARY:Modul 2 - Aufbaukurs Schauspiel
DESCRIPTION:Das Handwerk der Schauspielkunst weiter fördern.\n\nhttps://eventfrog.de/de/p/theater-buehne/modul-2-aufbaukurs-schauspiel-7429657430001241083.html
LOCATION:Switzerland Innovation Park Ost AG
GEO:47.412146;9.340767
URL:https://eventfrog.de/de/p/theater-buehne/modul-2-aufbaukurs-schauspiel-7429657430001241083.html
END:VEVENT
BEGIN:VEVENT
UID:20260420T131607Z-7429657430173207548@eventfrog.de
DTSTAMP:20260420T131607Z
DTSTART:20260430T230000Z
DTEND:20260605T134346Z
SUMMARY:Modul 2 - Aufbaukurs Schauspiel
DESCRIPTION:Das Handwerk der Schauspielkunst weiter fördern.\n\nhttps://eventfrog.de/de/p/theater-buehne/modul-2-aufbaukurs-schauspiel-7429657430173207548.html
LOCATION:Switzerland Innovation Park Ost AG
GEO:47.412146;9.340767
URL:https://eventfrog.de/de/p/theater-buehne/modul-2-aufbaukurs-schauspiel-7429657430173207548.html
END:VEVENT
BEGIN:VEVENT
UID:20260420T131607Z-7429657430403894269@eventfrog.de
DTSTAMP:20260420T131607Z
DTSTART:20260507T230000Z
DTEND:20260612T134346Z
SUMMARY:Modul 2 - Aufbaukurs Schauspiel
DESCRIPTION:Das Handwerk der Schauspielkunst weiter fördern.\n\nhttps://eventfrog.de/de/p/theater-buehne/modul-2-aufbaukurs-schauspiel-7429657430403894269.html
LOCATION:Switzerland Innovation Park Ost AG
GEO:47.412146;9.340767
URL:https://eventfrog.de/de/p/theater-buehne/modul-2-aufbaukurs-schauspiel-7429657430403894269.html
END:VEVENT
END:VCALENDAR