BEGIN:VCALENDAR
VERSION:2.0
PRODID:EVENTFROG//EVENTGROUP//ICAL
BEGIN:VEVENT
UID:20260424T092413Z-7450301578626487558@eventfrog.de
DTSTAMP:20260424T092413Z
DTSTART:20260503T173000Z
SUMMARY:Romería
DESCRIPTION:Filmdrama von Carla Simón.\n\nhttps://eventfrog.de/de/p/freizeit-ausfluege/romeria-7450301578626487558.html
LOCATION:Kino Rosental
GEO:47.442578;9.533443
URL:https://eventfrog.de/de/p/freizeit-ausfluege/romeria-7450301578626487558.html
END:VEVENT
END:VCALENDAR