BEGIN:VCALENDAR
VERSION:2.0
PRODID:EVENTFROG//EVENTGROUP//ICAL
BEGIN:VEVENT
UID:20260424T092233Z-7452015267578690856@eventfrog.de
DTSTAMP:20260424T092233Z
DTSTART:20260803T070000Z
DTEND:20260807T140000Z
SUMMARY:Finance4Kids Sommercamp
DESCRIPTION:Kinder lernen vormittags spielerisch den Umgang mit Geld und sind nachmittags mit Gruppenspielen draussen aktiv.\n\nhttps://eventfrog.de/de/p/kinderveranstaltungen/ferienprogramm/finance4kids-sommercamp-7452015267578690856.html
LOCATION:Zürich Stadt, Genossenschaftsraum Hofgarten
GEO:47.396754;8.534257
URL:https://eventfrog.de/de/p/kinderveranstaltungen/ferienprogramm/finance4kids-sommercamp-7452015267578690856.html
END:VEVENT
BEGIN:VEVENT
UID:20260424T092233Z-7452016703607691646@eventfrog.de
DTSTAMP:20260424T092233Z
DTSTART:20260810T070000Z
DTEND:20260814T140000Z
SUMMARY:Finance4Kids Sommercamp
DESCRIPTION:Kinder lernen vormittags spielerisch den Umgang mit Geld und sind nachmittags mit Gruppenspielen draussen aktiv.\n\nhttps://eventfrog.de/de/p/kinderveranstaltungen/ferienprogramm/finance4kids-sommercamp-7452016703607691646.html
LOCATION:Zürich Stadt, Genossenschaftsraum Hofgarten
GEO:47.396754;8.534257
URL:https://eventfrog.de/de/p/kinderveranstaltungen/ferienprogramm/finance4kids-sommercamp-7452016703607691646.html
END:VEVENT
END:VCALENDAR