BEGIN:VCALENDAR
VERSION:2.0
PRODID:EVENTFROG//EVENTGROUP//ICAL
BEGIN:VEVENT
UID:20260424T083922Z-7452110735176372832@eventfrog.de
DTSTAMP:20260424T083922Z
DTSTART:20260530T073000Z
SUMMARY:Goofetheater
DESCRIPTION:Theater für Kinder.\n\nhttps://eventfrog.de/de/p/theater-buehne/goofetheater-7452110735176372832.html
LOCATION:Stuhlfabrik Herisau
GEO:47.387798;9.284961
URL:https://eventfrog.de/de/p/theater-buehne/goofetheater-7452110735176372832.html
END:VEVENT
BEGIN:VEVENT
UID:20260424T083922Z-7452110735360922210@eventfrog.de
DTSTAMP:20260424T083922Z
DTSTART:20260531T073000Z
SUMMARY:Goofetheater
DESCRIPTION:Theater für Kinder.\n\nhttps://eventfrog.de/de/p/theater-buehne/goofetheater-7452110735360922210.html
LOCATION:Stuhlfabrik Herisau
GEO:47.387798;9.284961
URL:https://eventfrog.de/de/p/theater-buehne/goofetheater-7452110735360922210.html
END:VEVENT
END:VCALENDAR