BEGIN:VCALENDAR
VERSION:2.0
PRODID:EVENTFROG//EVENTGROUP//ICAL
BEGIN:VEVENT
UID:20260421T182132Z-7452110860154056605@eventfrog.de
DTSTAMP:20260421T182132Z
DTSTART:20260502T093000Z
SUMMARY:Zeitzeugenführung
DESCRIPTION:Führung des Freundes- und Förderkreis.\n\nhttps://eventfrog.de/de/p/wissenschaft-und-technik/zeitzeugenfuehrung-7452110860154056605.html
LOCATION:Dornier Museum
GEO:47.670555;9.517771
URL:https://eventfrog.de/de/p/wissenschaft-und-technik/zeitzeugenfuehrung-7452110860154056605.html
END:VEVENT
END:VCALENDAR