BEGIN:VCALENDAR
VERSION:2.0
PRODID:EVENTFROG//EVENTGROUP//ICAL
BEGIN:VEVENT
UID:20260421T163249Z-7452110860342800287@eventfrog.de
DTSTAMP:20260421T163249Z
DTSTART:20260502T093000Z
SUMMARY:Führung
DESCRIPTION:Die Geschichte der Firma Dornier.\n\nhttps://eventfrog.de/de/p/wissenschaft-und-technik/fuehrung-7452110860342800287.html
LOCATION:Dornier Museum
GEO:47.670555;9.517771
URL:https://eventfrog.de/de/p/wissenschaft-und-technik/fuehrung-7452110860342800287.html
END:VEVENT
BEGIN:VEVENT
UID:20260421T163249Z-7452110860518961056@eventfrog.de
DTSTAMP:20260421T163249Z
DTSTART:20260503T093000Z
SUMMARY:Führung
DESCRIPTION:Die Geschichte der Firma Dornier.\n\nhttps://eventfrog.de/de/p/wissenschaft-und-technik/fuehrung-7452110860518961056.html
LOCATION:Dornier Museum
GEO:47.670555;9.517771
URL:https://eventfrog.de/de/p/wissenschaft-und-technik/fuehrung-7452110860518961056.html
END:VEVENT
BEGIN:VEVENT
UID:20260421T163249Z-7452110860695121826@eventfrog.de
DTSTAMP:20260421T163249Z
DTSTART:20260509T093000Z
SUMMARY:Führung
DESCRIPTION:Die Geschichte der Firma Dornier.\n\nhttps://eventfrog.de/de/p/wissenschaft-und-technik/fuehrung-7452110860695121826.html
LOCATION:Dornier Museum
GEO:47.670555;9.517771
URL:https://eventfrog.de/de/p/wissenschaft-und-technik/fuehrung-7452110860695121826.html
END:VEVENT
BEGIN:VEVENT
UID:20260421T163249Z-7452110860871282595@eventfrog.de
DTSTAMP:20260421T163249Z
DTSTART:20260510T093000Z
SUMMARY:Führung
DESCRIPTION:Die Geschichte der Firma Dornier.\n\nhttps://eventfrog.de/de/p/wissenschaft-und-technik/fuehrung-7452110860871282595.html
LOCATION:Dornier Museum
GEO:47.670555;9.517771
URL:https://eventfrog.de/de/p/wissenschaft-und-technik/fuehrung-7452110860871282595.html
END:VEVENT
BEGIN:VEVENT
UID:20260421T163249Z-7452110861047443364@eventfrog.de
DTSTAMP:20260421T163249Z
DTSTART:20260516T093000Z
SUMMARY:Führung
DESCRIPTION:Die Geschichte der Firma Dornier.\n\nhttps://eventfrog.de/de/p/wissenschaft-und-technik/fuehrung-7452110861047443364.html
LOCATION:Dornier Museum
GEO:47.670555;9.517771
URL:https://eventfrog.de/de/p/wissenschaft-und-technik/fuehrung-7452110861047443364.html
END:VEVENT
BEGIN:VEVENT
UID:20260421T163249Z-7452110861219409829@eventfrog.de
DTSTAMP:20260421T163249Z
DTSTART:20260517T093000Z
SUMMARY:Führung
DESCRIPTION:Die Geschichte der Firma Dornier.\n\nhttps://eventfrog.de/de/p/wissenschaft-und-technik/fuehrung-7452110861219409829.html
LOCATION:Dornier Museum
GEO:47.670555;9.517771
URL:https://eventfrog.de/de/p/wissenschaft-und-technik/fuehrung-7452110861219409829.html
END:VEVENT
BEGIN:VEVENT
UID:20260421T163249Z-7452110861395570599@eventfrog.de
DTSTAMP:20260421T163249Z
DTSTART:20260523T093000Z
SUMMARY:Führung
DESCRIPTION:Die Geschichte der Firma Dornier.\n\nhttps://eventfrog.de/de/p/wissenschaft-und-technik/fuehrung-7452110861395570599.html
LOCATION:Dornier Museum
GEO:47.670555;9.517771
URL:https://eventfrog.de/de/p/wissenschaft-und-technik/fuehrung-7452110861395570599.html
END:VEVENT
BEGIN:VEVENT
UID:20260421T163249Z-7452110861567537064@eventfrog.de
DTSTAMP:20260421T163249Z
DTSTART:20260524T093000Z
SUMMARY:Führung
DESCRIPTION:Die Geschichte der Firma Dornier.\n\nhttps://eventfrog.de/de/p/wissenschaft-und-technik/fuehrung-7452110861567537064.html
LOCATION:Dornier Museum
GEO:47.670555;9.517771
URL:https://eventfrog.de/de/p/wissenschaft-und-technik/fuehrung-7452110861567537064.html
END:VEVENT
END:VCALENDAR