BEGIN:VCALENDAR
VERSION:2.0
PRODID:EVENTFROG//EVENTGROUP//ICAL
BEGIN:VEVENT
UID:20260424T103812Z-7452267227846332583@eventfrog.de
DTSTAMP:20260424T103812Z
DTSTART:20260517T113000Z
DTEND:20260517T121500Z
SUMMARY:Museumstag: Vom Drunter zum Drüber
DESCRIPTION:45 Minturen beste Unterhaltung in schönem Ambiente sitzend, die Vorführung geniessen. \n\nhttps://eventfrog.de/de/p/fuehrungen-vortraege/vortrag/museumstag-vom-drunter-zum-drueber-7452267227846332583.html
LOCATION:Modemuseum
GEO:47.297790;8.017737
URL:https://eventfrog.de/de/p/fuehrungen-vortraege/vortrag/museumstag-vom-drunter-zum-drueber-7452267227846332583.html
END:VEVENT
BEGIN:VEVENT
UID:20260424T103812Z-7452268760260465450@eventfrog.de
DTSTAMP:20260424T103812Z
DTSTART:20260517T131500Z
DTEND:20260517T143000Z
SUMMARY:Museumstag: Vom Drunter zum Drüber
DESCRIPTION:45 Minturen beste Unterhaltung in schönem Ambiente sitzend, die Vorführung geniessen. \n\nhttps://eventfrog.de/de/p/fuehrungen-vortraege/vortrag/museumstag-vom-drunter-zum-drueber-7452268760260465450.html
LOCATION:Modemuseum
GEO:47.297790;8.017737
URL:https://eventfrog.de/de/p/fuehrungen-vortraege/vortrag/museumstag-vom-drunter-zum-drueber-7452268760260465450.html
END:VEVENT
END:VCALENDAR