BEGIN:VCALENDAR
VERSION:2.0
PRODID:EVENTFROG//EVENTGROUP//ICAL
BEGIN:VEVENT
UID:20260425T040844Z-7452387287625653014@eventfrog.de
DTSTAMP:20260425T040844Z
DTSTART:20260428T160000Z
DTEND:20260428T190000Z
SUMMARY:ECSTATIC DANCE Sound & Dance Ritual mit La Lvcha
DESCRIPTION:ECSTATIC DANCE \n\nhttps://eventfrog.de/de/p/diverses/ecstatic-dance-sound-dance-ritual-mit-la-lvcha-7452387287625653014.html
LOCATION:ZiMMT
GEO:51.348029;12.420404
URL:https://eventfrog.de/de/p/diverses/ecstatic-dance-sound-dance-ritual-mit-la-lvcha-7452387287625653014.html
END:VEVENT
BEGIN:VEVENT
UID:20260425T040844Z-7452387990913950355@eventfrog.de
DTSTAMP:20260425T040844Z
DTSTART:20260505T160000Z
DTEND:20260505T190000Z
SUMMARY:ECSTATIC DANCE Sound & Dance Ritual mit La Lvcha
DESCRIPTION:ECSTATIC DANCE \n\nhttps://eventfrog.de/de/p/diverses/ecstatic-dance-sound-dance-ritual-mit-la-lvcha-7452387990913950355.html
LOCATION:ZiMMT
GEO:51.348029;12.420404
URL:https://eventfrog.de/de/p/diverses/ecstatic-dance-sound-dance-ritual-mit-la-lvcha-7452387990913950355.html
END:VEVENT
BEGIN:VEVENT
UID:20260425T040844Z-7452387991329187089@eventfrog.de
DTSTAMP:20260425T040844Z
DTSTART:20260512T160000Z
DTEND:20260512T190000Z
SUMMARY:ECSTATIC DANCE Sound & Dance Ritual mit La Lvcha
DESCRIPTION:ECSTATIC DANCE \n\nhttps://eventfrog.de/de/p/diverses/ecstatic-dance-sound-dance-ritual-mit-la-lvcha-7452387991329187089.html
LOCATION:ZiMMT
GEO:51.348029;12.420404
URL:https://eventfrog.de/de/p/diverses/ecstatic-dance-sound-dance-ritual-mit-la-lvcha-7452387991329187089.html
END:VEVENT
BEGIN:VEVENT
UID:20260425T040844Z-7452387991505347920@eventfrog.de
DTSTAMP:20260425T040844Z
DTSTART:20260519T160000Z
DTEND:20260519T190000Z
SUMMARY:ECSTATIC DANCE Sound & Dance Ritual mit La Lvcha
DESCRIPTION:ECSTATIC DANCE \n\nhttps://eventfrog.de/de/p/diverses/ecstatic-dance-sound-dance-ritual-mit-la-lvcha-7452387991505347920.html
LOCATION:ZiMMT
GEO:51.348029;12.420404
URL:https://eventfrog.de/de/p/diverses/ecstatic-dance-sound-dance-ritual-mit-la-lvcha-7452387991505347920.html
END:VEVENT
BEGIN:VEVENT
UID:20260425T040844Z-7452387991635371346@eventfrog.de
DTSTAMP:20260425T040844Z
DTSTART:20260526T160000Z
DTEND:20260526T190000Z
SUMMARY:ECSTATIC DANCE Sound & Dance Ritual mit La Lvcha
DESCRIPTION:ECSTATIC DANCE \n\nhttps://eventfrog.de/de/p/diverses/ecstatic-dance-sound-dance-ritual-mit-la-lvcha-7452387991635371346.html
LOCATION:ZiMMT
GEO:51.348029;12.420404
URL:https://eventfrog.de/de/p/diverses/ecstatic-dance-sound-dance-ritual-mit-la-lvcha-7452387991635371346.html
END:VEVENT
BEGIN:VEVENT
UID:20260425T040844Z-7452387991777977689@eventfrog.de
DTSTAMP:20260425T040844Z
DTSTART:20260602T160000Z
DTEND:20260602T190000Z
SUMMARY:ECSTATIC DANCE Sound & Dance Ritual mit La Lvcha
DESCRIPTION:ECSTATIC DANCE \n\nhttps://eventfrog.de/de/p/diverses/ecstatic-dance-sound-dance-ritual-mit-la-lvcha-7452387991777977689.html
LOCATION:ZiMMT
GEO:51.348029;12.420404
URL:https://eventfrog.de/de/p/diverses/ecstatic-dance-sound-dance-ritual-mit-la-lvcha-7452387991777977689.html
END:VEVENT
END:VCALENDAR